BEGIN:VCALENDAR
VERSION:2.0
PRODID:-//Autism Society of Maryland - ECPv6.15.17.1//NONSGML v1.0//EN
CALSCALE:GREGORIAN
METHOD:PUBLISH
X-WR-CALNAME:Autism Society of Maryland
X-ORIGINAL-URL:https://autismsocietymd.org
X-WR-CALDESC:Events for Autism Society of Maryland
REFRESH-INTERVAL;VALUE=DURATION:PT1H
X-Robots-Tag:noindex
X-PUBLISHED-TTL:PT1H
BEGIN:VTIMEZONE
TZID:America/New_York
BEGIN:DAYLIGHT
TZOFFSETFROM:-0500
TZOFFSETTO:-0400
TZNAME:EDT
DTSTART:20250309T070000
END:DAYLIGHT
BEGIN:STANDARD
TZOFFSETFROM:-0400
TZOFFSETTO:-0500
TZNAME:EST
DTSTART:20251102T060000
END:STANDARD
BEGIN:DAYLIGHT
TZOFFSETFROM:-0500
TZOFFSETTO:-0400
TZNAME:EDT
DTSTART:20260308T070000
END:DAYLIGHT
BEGIN:STANDARD
TZOFFSETFROM:-0400
TZOFFSETTO:-0500
TZNAME:EST
DTSTART:20261101T060000
END:STANDARD
BEGIN:DAYLIGHT
TZOFFSETFROM:-0500
TZOFFSETTO:-0400
TZNAME:EDT
DTSTART:20270314T070000
END:DAYLIGHT
BEGIN:STANDARD
TZOFFSETFROM:-0400
TZOFFSETTO:-0500
TZNAME:EST
DTSTART:20271107T060000
END:STANDARD
END:VTIMEZONE
BEGIN:VEVENT
DTSTART;TZID=America/New_York:20260715T190000
DTEND;TZID=America/New_York:20260715T203000
DTSTAMP:20260423T185856
CREATED:20260315T180339Z
LAST-MODIFIED:20260315T180339Z
UID:10002734-1784142000-1784147400@autismsocietymd.org
SUMMARY:Navigating the Autism Journey Support Group (Virtual)
DESCRIPTION:Navigating the Autism Journey is a free support group for parents and caregivers that features discussions and presentations on Autism-related topics. Sessions are led by our Family Navigator\, Kelly Kryspin. ​​​​​​​​​​​​​​ \nA one-time registration is required. CLICK HERE. \n​​​​The login will be sent before each Zoom session. Please note: If you register within 24 hours of the session\, we cannot guarantee that you’ll receive the reminder email and Zoom link. \nIf you have been receiving email notifications\, you are on the list.
URL:https://autismsocietymd.org/event/navigating-the-autism-journey-support-group-virtual-10/
CATEGORIES:Family Support
ATTACH;FMTTYPE=image/png:https://autismsocietymd.org/wp-content/uploads/2023/10/Navigating-Autism-Journey-logo-10.2023.png
END:VEVENT
END:VCALENDAR