BEGIN:VCALENDAR
VERSION:2.0
PRODID:-//Autism Society of Maryland - ECPv6.15.17.1//NONSGML v1.0//EN
CALSCALE:GREGORIAN
METHOD:PUBLISH
X-WR-CALNAME:Autism Society of Maryland
X-ORIGINAL-URL:https://autismsocietymd.org
X-WR-CALDESC:Events for Autism Society of Maryland
REFRESH-INTERVAL;VALUE=DURATION:PT1H
X-Robots-Tag:noindex
X-PUBLISHED-TTL:PT1H
BEGIN:VTIMEZONE
TZID:America/New_York
BEGIN:DAYLIGHT
TZOFFSETFROM:-0500
TZOFFSETTO:-0400
TZNAME:EDT
DTSTART:20250309T070000
END:DAYLIGHT
BEGIN:STANDARD
TZOFFSETFROM:-0400
TZOFFSETTO:-0500
TZNAME:EST
DTSTART:20251102T060000
END:STANDARD
BEGIN:DAYLIGHT
TZOFFSETFROM:-0500
TZOFFSETTO:-0400
TZNAME:EDT
DTSTART:20260308T070000
END:DAYLIGHT
BEGIN:STANDARD
TZOFFSETFROM:-0400
TZOFFSETTO:-0500
TZNAME:EST
DTSTART:20261101T060000
END:STANDARD
BEGIN:DAYLIGHT
TZOFFSETFROM:-0500
TZOFFSETTO:-0400
TZNAME:EDT
DTSTART:20270314T070000
END:DAYLIGHT
BEGIN:STANDARD
TZOFFSETFROM:-0400
TZOFFSETTO:-0500
TZNAME:EST
DTSTART:20271107T060000
END:STANDARD
END:VTIMEZONE
BEGIN:VEVENT
DTSTART;VALUE=DATE:20260202
DTEND;VALUE=DATE:20260203
DTSTAMP:20260423T173403
CREATED:20260115T230007Z
LAST-MODIFIED:20260204T152752Z
UID:10002628-1769990400-1770076799@autismsocietymd.org
SUMMARY:Howard County & Montgomery County Resource Coordinator Office Hours
DESCRIPTION:Resource Coordinator Office Hours – Howard & Montgomery Counties \nWhen: Mondays\, Wednesdays\, and Fridays (by appointment only)Where: Autism Society of Maryland Office\, Zoom or phone \nCONTACT: Sara Sommerville | sara.sommerville@autismsocietymd.org | 443-518-7680 (Direct) \nThe Autism Society of Maryland’s Resource Coordinators are available to meet with families and individuals seeking support. Office hours are held three days a week by appointment only. \nDuring your appointment\, our coordinators can: \n\nConnect you with local autism resources and services\nProvide guidance and referrals tailored to your needs\nAnswer questions and help you navigate available tools\n\nAppointments are required. Please contact us to schedule a time.
URL:https://autismsocietymd.org/event/howard-county-montgomery-county-resource-coordinator-office-hours-19/
LOCATION:Autism Society of Maryland\, 9770 Patuxent Woods Drive\, Suite 308\, Columbia\, MD\, 21046\, United States
CATEGORIES:Family Support,General Support
ATTACH;FMTTYPE=image/png:https://autismsocietymd.org/wp-content/uploads/2025/09/7.png
END:VEVENT
END:VCALENDAR