BEGIN:VCALENDAR
VERSION:2.0
PRODID:-//Autism Society of Maryland - ECPv6.15.17.1//NONSGML v1.0//EN
CALSCALE:GREGORIAN
METHOD:PUBLISH
X-WR-CALNAME:Autism Society of Maryland
X-ORIGINAL-URL:https://autismsocietymd.org
X-WR-CALDESC:Events for Autism Society of Maryland
REFRESH-INTERVAL;VALUE=DURATION:PT1H
X-Robots-Tag:noindex
X-PUBLISHED-TTL:PT1H
BEGIN:VTIMEZONE
TZID:America/New_York
BEGIN:DAYLIGHT
TZOFFSETFROM:-0500
TZOFFSETTO:-0400
TZNAME:EDT
DTSTART:20240310T070000
END:DAYLIGHT
BEGIN:STANDARD
TZOFFSETFROM:-0400
TZOFFSETTO:-0500
TZNAME:EST
DTSTART:20241103T060000
END:STANDARD
BEGIN:DAYLIGHT
TZOFFSETFROM:-0500
TZOFFSETTO:-0400
TZNAME:EDT
DTSTART:20250309T070000
END:DAYLIGHT
BEGIN:STANDARD
TZOFFSETFROM:-0400
TZOFFSETTO:-0500
TZNAME:EST
DTSTART:20251102T060000
END:STANDARD
BEGIN:DAYLIGHT
TZOFFSETFROM:-0500
TZOFFSETTO:-0400
TZNAME:EDT
DTSTART:20260308T070000
END:DAYLIGHT
BEGIN:STANDARD
TZOFFSETFROM:-0400
TZOFFSETTO:-0500
TZNAME:EST
DTSTART:20261101T060000
END:STANDARD
END:VTIMEZONE
BEGIN:VEVENT
DTSTART;VALUE=DATE:20251015
DTEND;VALUE=DATE:20251016
DTSTAMP:20260424T051358
CREATED:20250929T023312Z
LAST-MODIFIED:20250929T023312Z
UID:10002549-1760486400-1760572799@autismsocietymd.org
SUMMARY:Howard County & Montgomery County Resource Coordinator Office Hours
DESCRIPTION:NEW THIS FALL! \nResource Coordinator Office Hours – Howard & Montgomery Counties \nWhen: Mondays\, Wednesdays\, and Fridays (by appointment only)Where: Autism Society of Maryland Office \nCONTACT: Sara Sommerville | sara.sommerville@autismsocietymd.org | 443-518-7680 (Direct) \nThe Autism Society of Maryland’s Resource Coordinators are available to meet with families and individuals seeking support. Office hours are held three days a week by appointment only. \nDuring your appointment\, our coordinators can: \n\n\nConnect you with local autism resources and services \n\n\nProvide guidance and referrals tailored to your needs \n\n\nAnswer questions and help you navigate available tools \n\n\nAppointments are required. Please contact us to schedule a time.
URL:https://autismsocietymd.org/event/howard-county-montgomery-county-resource-coordinator-office-hours-11/
LOCATION:Autism Society of Maryland\, 9770 Patuxent Woods Drive\, Suite 308\, Columbia\, MD\, 21046\, United States
CATEGORIES:Family Support,General Support
ATTACH;FMTTYPE=image/png:https://autismsocietymd.org/wp-content/uploads/2025/09/7.png
END:VEVENT
BEGIN:VEVENT
DTSTART;TZID=America/New_York:20251015T190000
DTEND;TZID=America/New_York:20251015T203000
DTSTAMP:20260424T051358
CREATED:20250601T201431Z
LAST-MODIFIED:20251015T215945Z
UID:10002503-1760554800-1760560200@autismsocietymd.org
SUMMARY:Navigating the Autism Journey Support Group (Virtual)
DESCRIPTION:​​​​​​​Navigating the Autism Journey is a free support group for parents and caregivers that features discussions and presentations on Autism-related topics. Sessions are led by our Family Navigator\, Kelly Kryspin. ​​​​​​​​​​​​​​ \nA one-time registration is required. CLICK HERE. \n​​​​The login will be sent before each Zoom session. If you have been receiving email notifications\, you are on the list.
URL:https://autismsocietymd.org/event/navigating-the-journey-support-group-virtual-16/
CATEGORIES:Family Support
ATTACH;FMTTYPE=image/png:https://autismsocietymd.org/wp-content/uploads/2023/10/Navigating-Autism-Journey-logo-10.2023.png
END:VEVENT
END:VCALENDAR