BEGIN:VCALENDAR
VERSION:2.0
PRODID:-//Autism Society of Maryland - ECPv6.15.17.1//NONSGML v1.0//EN
CALSCALE:GREGORIAN
METHOD:PUBLISH
X-ORIGINAL-URL:https://autismsocietymd.org
X-WR-CALDESC:Events for Autism Society of Maryland
REFRESH-INTERVAL;VALUE=DURATION:PT1H
X-Robots-Tag:noindex
X-PUBLISHED-TTL:PT1H
BEGIN:VTIMEZONE
TZID:America/New_York
BEGIN:DAYLIGHT
TZOFFSETFROM:-0500
TZOFFSETTO:-0400
TZNAME:EDT
DTSTART:20240310T070000
END:DAYLIGHT
BEGIN:STANDARD
TZOFFSETFROM:-0400
TZOFFSETTO:-0500
TZNAME:EST
DTSTART:20241103T060000
END:STANDARD
BEGIN:DAYLIGHT
TZOFFSETFROM:-0500
TZOFFSETTO:-0400
TZNAME:EDT
DTSTART:20250309T070000
END:DAYLIGHT
BEGIN:STANDARD
TZOFFSETFROM:-0400
TZOFFSETTO:-0500
TZNAME:EST
DTSTART:20251102T060000
END:STANDARD
BEGIN:DAYLIGHT
TZOFFSETFROM:-0500
TZOFFSETTO:-0400
TZNAME:EDT
DTSTART:20260308T070000
END:DAYLIGHT
BEGIN:STANDARD
TZOFFSETFROM:-0400
TZOFFSETTO:-0500
TZNAME:EST
DTSTART:20261101T060000
END:STANDARD
END:VTIMEZONE
BEGIN:VEVENT
DTSTART;TZID=America/New_York:20250319T143000
DTEND;TZID=America/New_York:20250319T160000
DTSTAMP:20260424T213447
CREATED:20250302T230639Z
LAST-MODIFIED:20250302T230808Z
UID:10002459-1742394600-1742400000@autismsocietymd.org
SUMMARY:ENTRE AMIGOS CON AUTISMO
DESCRIPTION:ENTRE AMIGOS CON AUTISMO \nUn grupo de juego de AUSOM Anne Arundel\nUn tiempo para interactuar\, conocer nuevas familias y tener mucha diversion \nTodas las edades son bienvenidas! \nFECHAS DEL 2025: Marzo 19 \nHORA: 2:30 PM – 4:00 PM \nUBICACION: Brock Bridge Elementary School \n405 Brock Bridge Rd\, Laurel\, MD 20724 \nSi tiene alguna pregunta\, favor de comunicarse con Catalina Ramos \nal 443-518-7681 or por texto al 443-620-8441 \no a catalina.ramos@autismsocietymd.org. \n*En caso de inclemencias del clima\, se avisará por medio de un correo electrónico \ny se publicará en nuestra página web\, Facebook y por WhatsApp. \n  \nEste programa es hecho posible por una subvención otorgada por los Servicios de Desarrollo Comunitario de Arundel\, Inc. Fondo de Impacto del Hipódromo de Laurel.
URL:https://autismsocietymd.org/event/entre-amigos-con-autismo-4/
LOCATION:Brock Bridge Elementary School\, 405 Brock Bridge Rd\, Laurel\, MD\, 20724\, United States
CATEGORIES:Family Support
ATTACH;FMTTYPE=image/png:https://autismsocietymd.org/wp-content/uploads/2024/08/AACo-AUSOM-Amigos-Play-Group-Logo.png
END:VEVENT
BEGIN:VEVENT
DTSTART;TZID=America/New_York:20250319T190000
DTEND;TZID=America/New_York:20250319T203000
DTSTAMP:20260424T213447
CREATED:20250205T235134Z
LAST-MODIFIED:20250205T235204Z
UID:10002427-1742410800-1742416200@autismsocietymd.org
SUMMARY:Navigating the Journey Support Group (Virtual)
DESCRIPTION:​​​​​​​Navigating the Autism Journey is a free support group for parents and caregivers that features discussions and presentations on Autism-related topics. Sessions are led by our Family Navigator\, Kelly Kryspin. ​​​​​​​​​​​​​​ \nA one-time registration is required. CLICK HERE. \nUpcoming Meeting Dates: \n\nMarch 19\, 2025\nApril 16\, 2025\nMay 21\, 2025\n\n​​​​The login will be sent before each Zoom session. If you have been receiving email notifications\, you are on the list.
URL:https://autismsocietymd.org/event/navigating-the-journey-support-group-virtual-13/
CATEGORIES:Family Support
ATTACH;FMTTYPE=image/png:https://autismsocietymd.org/wp-content/uploads/2023/10/Navigating-Autism-Journey-logo-10.2023.png
END:VEVENT
END:VCALENDAR