BEGIN:VCALENDAR
VERSION:2.0
PRODID:-//Autism Society of Maryland - ECPv6.15.17.1//NONSGML v1.0//EN
CALSCALE:GREGORIAN
METHOD:PUBLISH
X-ORIGINAL-URL:https://autismsocietymd.org
X-WR-CALDESC:Events for Autism Society of Maryland
REFRESH-INTERVAL;VALUE=DURATION:PT1H
X-Robots-Tag:noindex
X-PUBLISHED-TTL:PT1H
BEGIN:VTIMEZONE
TZID:America/New_York
BEGIN:DAYLIGHT
TZOFFSETFROM:-0500
TZOFFSETTO:-0400
TZNAME:EDT
DTSTART:20250309T070000
END:DAYLIGHT
BEGIN:STANDARD
TZOFFSETFROM:-0400
TZOFFSETTO:-0500
TZNAME:EST
DTSTART:20251102T060000
END:STANDARD
BEGIN:DAYLIGHT
TZOFFSETFROM:-0500
TZOFFSETTO:-0400
TZNAME:EDT
DTSTART:20260308T070000
END:DAYLIGHT
BEGIN:STANDARD
TZOFFSETFROM:-0400
TZOFFSETTO:-0500
TZNAME:EST
DTSTART:20261101T060000
END:STANDARD
BEGIN:DAYLIGHT
TZOFFSETFROM:-0500
TZOFFSETTO:-0400
TZNAME:EDT
DTSTART:20270314T070000
END:DAYLIGHT
BEGIN:STANDARD
TZOFFSETFROM:-0400
TZOFFSETTO:-0500
TZNAME:EST
DTSTART:20271107T060000
END:STANDARD
END:VTIMEZONE
BEGIN:VEVENT
DTSTART;TZID=America/New_York:20260512T100000
DTEND;TZID=America/New_York:20260512T140000
DTSTAMP:20260423T184115
CREATED:20260315T182300Z
LAST-MODIFIED:20260315T183920Z
UID:10002746-1778580000-1778594400@autismsocietymd.org
SUMMARY:Conozca a nuestra Coordinadora de Recursos en español de AUSOM
DESCRIPTION:Conozca a nuestra Coordinadora de Recursos en español de AUSOM: Catalina Ramos \nEste programa será el 2do. martes\nde cada mes\, 10AM-2PM \ncatalina.ramos@autismsocietymd.org \n443-518-7681 (Directo); 443-620-8441 (Textos) \nEl Centro de Multiservicios\n9900 Washington Blvd\nN. Laurel\, MD 20723 \nThis program will be the 2nd. Tuesday of each month\, 10AM-2PM\nThe Multiservice Center 9900 Washington Blvd N. Laurel\, MD 20723
URL:https://autismsocietymd.org/event/conozca-a-nuestra-coordinadora-de-recursos-en-espanol-de-ausom-13/
LOCATION:The Multiservice Center\, 9900 Washington Blvd\, Laurel\, MD\, United States
CATEGORIES:Autism Awarenss,Espanol,General Support,Outreach
ATTACH;FMTTYPE=image/png:https://autismsocietymd.org/wp-content/uploads/2025/10/Resource-Coordinator-Office-Hours_event-calendar_1080x1080-2-1.png
END:VEVENT
BEGIN:VEVENT
DTSTART;TZID=America/New_York:20260516T090000
DTEND;TZID=America/New_York:20260516T130000
DTSTAMP:20260423T184115
CREATED:20260315T184647Z
LAST-MODIFIED:20260315T184714Z
UID:10002750-1778922000-1778936400@autismsocietymd.org
SUMMARY:Unidos por el Autismo Caminata 3KM
DESCRIPTION:Unidos por el Autismo Caminata 3KM\nMay 16\, 2026 \n9:00 AM – 1:00 PM \nPara más informatión llame o envie un correo-e a: \n\nCatalina Ramos\, catalina.ramos@autismsocietymd.org\, 443-518-7681\nMarianela Estrada\, emailnella22@gmail.com\, 973-223-1024\nAlex Arevalo\, ax.areval1@gmail.com\, 240-374-3368
URL:https://autismsocietymd.org/event/unidos-por-el-autismo-caminata-3km/
CATEGORIES:Autism Awarenss,Espanol,Latino Parent Support
ATTACH;FMTTYPE=image/png:https://autismsocietymd.org/wp-content/uploads/2026/02/2025UNIDOSAutismWalk-1080-x-1080-px-5.9.25.png
END:VEVENT
BEGIN:VEVENT
DTSTART;TZID=America/New_York:20260609T100000
DTEND;TZID=America/New_York:20260609T140000
DTSTAMP:20260423T184115
CREATED:20260315T182612Z
LAST-MODIFIED:20260315T182612Z
UID:10002747-1780999200-1781013600@autismsocietymd.org
SUMMARY:Conozca a nuestra Coordinadora de Recursos en español de AUSOM
DESCRIPTION:Conozca a nuestra Coordinadora de Recursos en español de AUSOM: Catalina Ramos \nEste programa será el 2do. martes\nde cada mes\, 10AM-2PM \ncatalina.ramos@autismsocietymd.org \n443-518-7681 (Directo); 443-620-8441 (Textos) \nEl Centro de Multiservicios\n9900 Washington Blvd\nN. Laurel\, MD 20723 \nThis program will be the 2nd. Tuesday of each month\, 10AM-2PM\nThe Multiservice Center 9900 Washington Blvd N. Laurel\, MD 20723
URL:https://autismsocietymd.org/event/conozca-a-nuestra-coordinadora-de-recursos-en-espanol-de-ausom-14/
LOCATION:The Multiservice Center\, 9900 Washington Blvd\, Laurel\, MD\, United States
CATEGORIES:Autism Awarenss,Espanol,General Support,Outreach
ATTACH;FMTTYPE=image/png:https://autismsocietymd.org/wp-content/uploads/2025/10/Resource-Coordinator-Office-Hours_event-calendar_1080x1080-2-1.png
END:VEVENT
END:VCALENDAR