BEGIN:VCALENDAR
VERSION:2.0
PRODID:-//Autism Society of Maryland - ECPv6.15.17.1//NONSGML v1.0//EN
CALSCALE:GREGORIAN
METHOD:PUBLISH
X-WR-CALNAME:Autism Society of Maryland
X-ORIGINAL-URL:https://autismsocietymd.org
X-WR-CALDESC:Events for Autism Society of Maryland
REFRESH-INTERVAL;VALUE=DURATION:PT1H
X-Robots-Tag:noindex
X-PUBLISHED-TTL:PT1H
BEGIN:VTIMEZONE
TZID:America/New_York
BEGIN:DAYLIGHT
TZOFFSETFROM:-0500
TZOFFSETTO:-0400
TZNAME:EDT
DTSTART:20250309T070000
END:DAYLIGHT
BEGIN:STANDARD
TZOFFSETFROM:-0400
TZOFFSETTO:-0500
TZNAME:EST
DTSTART:20251102T060000
END:STANDARD
BEGIN:DAYLIGHT
TZOFFSETFROM:-0500
TZOFFSETTO:-0400
TZNAME:EDT
DTSTART:20260308T070000
END:DAYLIGHT
BEGIN:STANDARD
TZOFFSETFROM:-0400
TZOFFSETTO:-0500
TZNAME:EST
DTSTART:20261101T060000
END:STANDARD
BEGIN:DAYLIGHT
TZOFFSETFROM:-0500
TZOFFSETTO:-0400
TZNAME:EDT
DTSTART:20270314T070000
END:DAYLIGHT
BEGIN:STANDARD
TZOFFSETFROM:-0400
TZOFFSETTO:-0500
TZNAME:EST
DTSTART:20271107T060000
END:STANDARD
END:VTIMEZONE
BEGIN:VEVENT
DTSTART;TZID=America/New_York:20260503T110000
DTEND;TZID=America/New_York:20260503T140000
DTSTAMP:20260423T141305
CREATED:20260315T183340Z
LAST-MODIFIED:20260315T232722Z
UID:10002748-1777806000-1777816800@autismsocietymd.org
SUMMARY:AACO - Autism in the Park
DESCRIPTION:Autism in the Park – Anne Arundel County\nAutismo En EL Parque – Condado de Anne Arundel \nMay 3\, 2026 | Mayo 3\, 2026\n11:00 AM – 2:00 PM \nLake Waterford Park\n830 Pasadena Rd\nPasadena\, MD\, 21122 \n\n\n\n\n\n\n\n\nCelebrateDifferences in an inclusive\, playful environment at Autism in the Park Anne Arundel County! Join us at Lake Waterford Park’s Blue Jay Pavilion and playground on May 3rd from 11:00am-2:00pm for interactive play\, entertainers\, face painting\, Autism Resource Fair\, food truck\, Bocce and Cornhole\, parachute play\, playground and more! FREE and Fun for all ages! Take the opportunity to visit with members of the disability community\, government agencies\, nonprofit organizations\, and elected officials at the Autism Resource Fair.\nPresented by: Autism Society of Maryland and Anne Arundel County Recreation and Parks.\n\n\n\n\n\n\n¡Celebra la diversidad en un ambiente inclusivo y divertido en Autism in the Park\, Condado de Anne Arundel! Acompáñanos en el Pabellón Blue Jay y el área de juegos del Parque Lake Waterford el 3 de mayo de 11:00 a 14:00 para disfrutar de juegos interactivos\, entretenimiento\, pintacaritas\, la Feria de Recursos para el Autismo\, food trucks\, bochas y cornhole\, juegos con paracaídas\, área de juegos y mucho más. ¡Gratis y divertido para todas las edades! Aprovecha la oportunidad para conversar con miembros de la comunidad de personas con discapacidad\, agencias gubernamentales\, organizaciones sin fines de lucro y funcionarios electos en la Feria de Recursos para el Autismo.  \nPresentado por: Sociedad de Autismo de Maryland y el Departamento de Recreación y Parques del Condado de Anne Arundel.
URL:https://autismsocietymd.org/event/aaco-autism-in-the-park/
LOCATION:Lake Waterford Park\, 830 Pasadena Road\, Pasadena\, Maryland\, 21122
CATEGORIES:Autism Awarenss,Espanol
ATTACH;FMTTYPE=image/png:https://autismsocietymd.org/wp-content/uploads/2026/03/Autism-in-the-Park-ICON-Instagram-Post-2.png
END:VEVENT
END:VCALENDAR