BEGIN:VCALENDAR
VERSION:2.0
PRODID:-//Autism Society of Maryland - ECPv6.15.17.1//NONSGML v1.0//EN
CALSCALE:GREGORIAN
METHOD:PUBLISH
X-ORIGINAL-URL:https://autismsocietymd.org
X-WR-CALDESC:Events for Autism Society of Maryland
REFRESH-INTERVAL;VALUE=DURATION:PT1H
X-Robots-Tag:noindex
X-PUBLISHED-TTL:PT1H
BEGIN:VTIMEZONE
TZID:America/New_York
BEGIN:DAYLIGHT
TZOFFSETFROM:-0500
TZOFFSETTO:-0400
TZNAME:EDT
DTSTART:20250309T070000
END:DAYLIGHT
BEGIN:STANDARD
TZOFFSETFROM:-0400
TZOFFSETTO:-0500
TZNAME:EST
DTSTART:20251102T060000
END:STANDARD
BEGIN:DAYLIGHT
TZOFFSETFROM:-0500
TZOFFSETTO:-0400
TZNAME:EDT
DTSTART:20260308T070000
END:DAYLIGHT
BEGIN:STANDARD
TZOFFSETFROM:-0400
TZOFFSETTO:-0500
TZNAME:EST
DTSTART:20261101T060000
END:STANDARD
BEGIN:DAYLIGHT
TZOFFSETFROM:-0500
TZOFFSETTO:-0400
TZNAME:EDT
DTSTART:20270314T070000
END:DAYLIGHT
BEGIN:STANDARD
TZOFFSETFROM:-0400
TZOFFSETTO:-0500
TZNAME:EST
DTSTART:20271107T060000
END:STANDARD
END:VTIMEZONE
BEGIN:VEVENT
DTSTART;TZID=America/New_York:20260418T110000
DTEND;TZID=America/New_York:20260418T140000
DTSTAMP:20260423T141518
CREATED:20260310T033115Z
LAST-MODIFIED:20260406T183244Z
UID:10002718-1776510000-1776520800@autismsocietymd.org
SUMMARY:Shine Brighter Together - AAM Month
DESCRIPTION:Shine Brighter Together – AAM MONTH\nApril 18\, 2026\n11:00 AM – 2:00 PM \nWheaton Regional Park \n2000 Shorefield Road \nWheaton\, Maryland 20902 \n\n\n\n\nApril is Autism Acceptance Month! To recognize its significance\, various agencies from across the county are “shining brighter together” at a fun family-friendly event at Wheaton Regional Park! Participate in hands-on\, sensory-friendly activities while learning more about autism and the variety of resources available in Montgomery County. \n\n\n\n\n\n\n\n\nMore Information visit: https://montgomeryparks.org/events/shine-brighter-together/ \nRain Date: April 19\, 2026 \n¡Abril es el Mes de la Aceptación del Autismo! Para celebrar su importancia\, diversas agencias de todo el condado se unen para brindar apoyo en un divertido evento familiar en el Parque Regional Wheaton. Participa en actividades prácticas y adaptadas a personas con sensibilidad sensorial mientras aprendes más sobre el autismo y la variedad de recursos disponibles en el Condado de Montgomery. \nMás información: Descarga este folleto o visita: https://montgomeryparks.org/events/shine-brighter-together/  \nFecha alternativa en caso de lluvia: 19 de abril de 2026.
URL:https://autismsocietymd.org/event/shine-bright-together-aam-month/
LOCATION:Wheaton Regional Park\, 2000 Shorefield Road\, Wheaton\, Maryland
CATEGORIES:Autism Awarenss,Espanol,Social
ATTACH;FMTTYPE=image/png:https://autismsocietymd.org/wp-content/uploads/2026/02/Shine-Brighter-2024.png
END:VEVENT
END:VCALENDAR