BEGIN:VCALENDAR
VERSION:2.0
PRODID:-//Autism Society of Maryland - ECPv6.15.17.1//NONSGML v1.0//EN
CALSCALE:GREGORIAN
METHOD:PUBLISH
X-WR-CALNAME:Autism Society of Maryland
X-ORIGINAL-URL:https://autismsocietymd.org
X-WR-CALDESC:Events for Autism Society of Maryland
REFRESH-INTERVAL;VALUE=DURATION:PT1H
X-Robots-Tag:noindex
X-PUBLISHED-TTL:PT1H
BEGIN:VTIMEZONE
TZID:America/New_York
BEGIN:DAYLIGHT
TZOFFSETFROM:-0500
TZOFFSETTO:-0400
TZNAME:EDT
DTSTART:20250309T070000
END:DAYLIGHT
BEGIN:STANDARD
TZOFFSETFROM:-0400
TZOFFSETTO:-0500
TZNAME:EST
DTSTART:20251102T060000
END:STANDARD
BEGIN:DAYLIGHT
TZOFFSETFROM:-0500
TZOFFSETTO:-0400
TZNAME:EDT
DTSTART:20260308T070000
END:DAYLIGHT
BEGIN:STANDARD
TZOFFSETFROM:-0400
TZOFFSETTO:-0500
TZNAME:EST
DTSTART:20261101T060000
END:STANDARD
BEGIN:DAYLIGHT
TZOFFSETFROM:-0500
TZOFFSETTO:-0400
TZNAME:EDT
DTSTART:20270314T070000
END:DAYLIGHT
BEGIN:STANDARD
TZOFFSETFROM:-0400
TZOFFSETTO:-0500
TZNAME:EST
DTSTART:20271107T060000
END:STANDARD
END:VTIMEZONE
BEGIN:VEVENT
DTSTART;TZID=America/New_York:20260404T080000
DTEND;TZID=America/New_York:20260404T100000
DTSTAMP:20260423T141306
CREATED:20260310T023640Z
LAST-MODIFIED:20260310T023640Z
UID:10002713-1775289600-1775296800@autismsocietymd.org
SUMMARY:Fiesta de trampolines
DESCRIPTION:FIESTA DE TRAMPOLÍN PARA TODAS LAS CAPACIDADES SENSORIAL DE AAM  \n4 de abril de 2026 \nde 8:00 a 10:00 h GRATIS \npero se requiere inscripción – Plazas limitadas: https://app.dvforms.net/api/dv/r764eo  \nParque de Trampolinos Get Air  \n587 East Ordnance Road  \nGlen Burnie\, MD 21061 (Frente a Planet Fitness)  \nSe invita a personas de todas las edades y capacidades\, y a sus familias\, del condado de Anne Arundel y alrededores\, a esta sesión de saltos. Conéctate con otras familias y obtén más información sobre AUSOM.  \nInscríbete en línea y firma la exención de responsabilidad antes del mediodía del 1 de abril. Cupo limitado en el lugar. Compra o trae tus propios calcetines antideslizantes ($4.24/par).  \nOrganizado por la Sociedad de Autismo de Maryland (AUSOM) y Get Air Trampoline Park y generosamente apoyado por la Fundación Doug Flutie Jr. para el Autismo
URL:https://autismsocietymd.org/event/fiesta-de-trampolines/
LOCATION:Get Air Trampoline Park\, 570 East Ordnance Rd\, Glen Burnie\, MD
CATEGORIES:Autism Awarenss,Espanol,Fitness
ATTACH;FMTTYPE=image/png:https://autismsocietymd.org/wp-content/uploads/2026/03/Autism-Society-of-Maryland.png
END:VEVENT
END:VCALENDAR