BEGIN:VCALENDAR
VERSION:2.0
PRODID:-//Autism Society of Maryland - ECPv6.15.17.1//NONSGML v1.0//EN
CALSCALE:GREGORIAN
METHOD:PUBLISH
X-WR-CALNAME:Autism Society of Maryland
X-ORIGINAL-URL:https://autismsocietymd.org
X-WR-CALDESC:Events for Autism Society of Maryland
REFRESH-INTERVAL;VALUE=DURATION:PT1H
X-Robots-Tag:noindex
X-PUBLISHED-TTL:PT1H
BEGIN:VTIMEZONE
TZID:America/New_York
BEGIN:DAYLIGHT
TZOFFSETFROM:-0500
TZOFFSETTO:-0400
TZNAME:EDT
DTSTART:20250309T070000
END:DAYLIGHT
BEGIN:STANDARD
TZOFFSETFROM:-0400
TZOFFSETTO:-0500
TZNAME:EST
DTSTART:20251102T060000
END:STANDARD
BEGIN:DAYLIGHT
TZOFFSETFROM:-0500
TZOFFSETTO:-0400
TZNAME:EDT
DTSTART:20260308T070000
END:DAYLIGHT
BEGIN:STANDARD
TZOFFSETFROM:-0400
TZOFFSETTO:-0500
TZNAME:EST
DTSTART:20261101T060000
END:STANDARD
BEGIN:DAYLIGHT
TZOFFSETFROM:-0500
TZOFFSETTO:-0400
TZNAME:EDT
DTSTART:20270314T070000
END:DAYLIGHT
BEGIN:STANDARD
TZOFFSETFROM:-0400
TZOFFSETTO:-0500
TZNAME:EST
DTSTART:20271107T060000
END:STANDARD
END:VTIMEZONE
BEGIN:VEVENT
DTSTART;TZID=America/New_York:20260207T170000
DTEND;TZID=America/New_York:20260207T190000
DTSTAMP:20260423T153130
CREATED:20260120T182637Z
LAST-MODIFIED:20260123T161854Z
UID:10002646-1770483600-1770490800@autismsocietymd.org
SUMMARY:UNA FIESTA EN LA PISCINA DE INVIERNO - GRATIS
DESCRIPTION:FIESTA DE PISCINA DE INVIERNO – ¡Inscripciones cerradas!  \nLas inscripciones para este evento ya están cerradas. Si desea apuntarse a la lista de espera\, envíe un correo electrónico a jessica.deadwyler@autismsocietymd.org o liza.kibler@autismsocietymd.org e incluya: nombre\, correo electrónico\, número de teléfono y el número de personas que asistirán. \n7 de febrero de 2026 @ 5:00-7:00PM \nNorth Arundel Aquatic Center \n7888 Crain Highway\, Glen Burnie\, MD 21061 \nInvitamos a personas autistas de todas las edades y capacidades y a sus familias a unirse a AUSOM para una fiesta GRATUITA en la piscina en el Centro Acuático North Arundel en Glen Burnie\, MD. ¡Ven a aprender más sobre la Sociedad de Autismo y conéctate con otros miembros de la comunidad en un ambiente divertido y acogedor! \nEs GRATIS pero necesitan inscribirse para poder asistir. El espacio es limitado. Les pedimos que solo inscriban a miembros de su familia cercana. No se permiten pañales para nadar. HAGA CLIC AQUÍ para ver las normas de la piscina en inglés. \nPreguntas? Comuníquese con Catalina Ramos al 443-518-7681 o catalina.ramos@autismsocietymd.org o por textos al 443-620-8441. \n 
URL:https://autismsocietymd.org/event/una-fiesta-en-la-piscina-de-invierno-gratis/
LOCATION:North Arundel Aquatic Center\, 7888 Crain Hwy. South\, Glen Burnie\, Maryland\, 21061
CATEGORIES:Espanol,Pool Party
ATTACH;FMTTYPE=image/png:https://autismsocietymd.org/wp-content/uploads/2026/01/2.png
END:VEVENT
BEGIN:VEVENT
DTSTART;VALUE=DATE:20260218
DTEND;VALUE=DATE:20260219
DTSTAMP:20260423T153130
CREATED:20260116T015522Z
LAST-MODIFIED:20260217T195036Z
UID:10002641-1771372800-1771459199@autismsocietymd.org
SUMMARY:DEVELOPMENTAL DISABILITIES DAY AT THE LEGISLATURE/DIA DE DISCAPACIDADES DEL DESARROLLO EN LA LEGISLATURA
DESCRIPTION:Mark Your Calendars & Save the Date \nDEVELOPMENTAL DISABILITIES DAY AT THE LEGISLATURE \nFebruary 18\, 2026 –  Stream Virtual: Maryland Developmental Disabilities Facebook Page \nAdvocates look forward to DD Day at the Legislature all year! Hear from legislators and fellow advocates\, learn about key advocacy priorities for this session\, and meet with your representatives to share what matters most. \nRegistration for DD Day at the Legislature will open soon! To learn more on purchasing tickets\, event materials and advocacy toolkits and other resources. \nVisit: Maryland Developmental Disabilities Council website. \n  \nMarca Tu Calendario & Aparta la Fecha \nDIA DE DISCAPACIDADES DEL DESARROLLO EN LA LEGISLATURA \nFebrero 18\, 2026​​​​​​​ \n¡Los defensores esperan todo el año el Día DD en la Legislatura! Escucha a los legisladores y a otros defensores\, aprende sobre las prioridades clave de defensa para esta sesión y reúnete con tus representantes para compartir lo que más importa. \nLa inscripción para el Día DD en la Legislatura se abrirá pronto. Para obtener más información sobre la compra de entradas\, materiales del evento\, kits de herramientas de defensa y otros recursos. Visita: Sitio web del Consejo de Discapacidades del Desarrollo de Maryland ​​​​​​​
URL:https://autismsocietymd.org/event/developmental-disabilities-day-at-the-legislature/
LOCATION:Graduate by Hilton\, 126 West St\, Annap\, 21401\, United States
CATEGORIES:Advocacy,Autism Awarenss,Espanol
ATTACH;FMTTYPE=image/png:https://autismsocietymd.org/wp-content/uploads/2026/01/Mark-your-calendars-for-Thursday-February-18-2026.png
END:VEVENT
BEGIN:VEVENT
DTSTART;TZID=America/New_York:20260227T144500
DTEND;TZID=America/New_York:20260227T161500
DTSTAMP:20260423T153130
CREATED:20260115T204323Z
LAST-MODIFIED:20260115T204734Z
UID:10002615-1772203500-1772208900@autismsocietymd.org
SUMMARY:ENTRE AMIGOS CON AUTISMO
DESCRIPTION:ENTRE AMIGOS CON AUTISMO/AMONG FRIENDS WITH AUTISM \nUn grupo de juego de AUSOM Anne Arundel\nUn tiempo para interactuar\, conocer nuevas familias y tener mucha diversion \nAn AUSOM Anne Arundel Playgroup A time to interact\, meet new families\, and have lots of fun \nTodas las edades son bienvenidas!/All ages welcome! \nFECHAS DEL 2026: 27 de Febrero\, 27 de Marzo \nHORA/TIME: 2:45-4:15pm \nUBICACIÓN/LOCATION: \nEscuela de Brock Bridge (En el Gimnasio). Brock Bridge Elementary School (Gymnasium) \n405 Brock Bridge Rd.\, Laurel\, MD 20724 \nTendremos pizza y bebidas \nSi tiene alguna pregunta\, favor de comunicarse con Catalina Ramos/If you have any questions\, please contact Catalina Ramos. \nal/call 443-518-7681 or por texto al/text 443-620-8441 \no a/email catalina.ramos@autismsocietymd.org. \n*En caso de inclemencias del clima\, se avisará por medio de un correo electrónico y se publicará en nuestra página web\, Facebook y por WhatsApp. \n*In case of inclement weather\, we will notify you via email and post it on our website\, Facebook\, and WhatsApp. \n  \nEste programa es hecho posible por una subvención otorgada por los Servicios de Desarrollo Comunitario de Arundel\, Inc. Fondo de Impacto del Hipódromo de Laurel. \nThis program is made possible by a grant from Arundel Community Development Services\, Inc. Laurel Racetrack Impact Fund.
URL:https://autismsocietymd.org/event/entre-amigos-con-autismo-2_2026/
LOCATION:Brock Bridge Elementary School\, 405 Brock Bridge Rd\, Laurel\, MD\, 20724\, United States
CATEGORIES:Espanol,Family Support,Social
ATTACH;FMTTYPE=image/webp:https://autismsocietymd.org/wp-content/uploads/2025/11/AACo-AUSOM-Amigos-Play-Group-Logo-REV-11.13.25.webp
END:VEVENT
END:VCALENDAR