BEGIN:VCALENDAR
VERSION:2.0
PRODID:-//Autism Society of Maryland - ECPv6.15.17.1//NONSGML v1.0//EN
CALSCALE:GREGORIAN
METHOD:PUBLISH
X-ORIGINAL-URL:https://autismsocietymd.org
X-WR-CALDESC:Events for Autism Society of Maryland
REFRESH-INTERVAL;VALUE=DURATION:PT1H
X-Robots-Tag:noindex
X-PUBLISHED-TTL:PT1H
BEGIN:VTIMEZONE
TZID:America/New_York
BEGIN:DAYLIGHT
TZOFFSETFROM:-0500
TZOFFSETTO:-0400
TZNAME:EDT
DTSTART:20250309T070000
END:DAYLIGHT
BEGIN:STANDARD
TZOFFSETFROM:-0400
TZOFFSETTO:-0500
TZNAME:EST
DTSTART:20251102T060000
END:STANDARD
BEGIN:DAYLIGHT
TZOFFSETFROM:-0500
TZOFFSETTO:-0400
TZNAME:EDT
DTSTART:20260308T070000
END:DAYLIGHT
BEGIN:STANDARD
TZOFFSETFROM:-0400
TZOFFSETTO:-0500
TZNAME:EST
DTSTART:20261101T060000
END:STANDARD
BEGIN:DAYLIGHT
TZOFFSETFROM:-0500
TZOFFSETTO:-0400
TZNAME:EDT
DTSTART:20270314T070000
END:DAYLIGHT
BEGIN:STANDARD
TZOFFSETFROM:-0400
TZOFFSETTO:-0500
TZNAME:EST
DTSTART:20271107T060000
END:STANDARD
END:VTIMEZONE
BEGIN:VEVENT
DTSTART;TZID=America/New_York:20260324T120000
DTEND;TZID=America/New_York:20260324T130000
DTSTAMP:20260423T185828
CREATED:20251015T221209Z
LAST-MODIFIED:20260227T182407Z
UID:10002576-1774353600-1774357200@autismsocietymd.org
SUMMARY:Brown Bag Workshop – Alternatives to Guardianship
DESCRIPTION:FREE BROWN BAG WEBINAR \nHow can Assistive Technology Support the Neurodiverse Student? \nMarch 24\, 2026 from 12:00PM – 1:00PM\nVirtual by Zoom – Registration is Required – https://pathfindersforautism.org/assistivetechnologywebinar/\nSe proporciona traducción simultánea al español \nLearn how neurodiverse students in Maryland can benefit from assistive technologies that support learning\, communication\, executive function skills\, social skills\, behavior regulation\, and more. \nPresented by Lori Berrong\, Executive Director of the MD Department of Disabilities’ Assistive Technology Program. \nLori Berrong serves as the Executive Director of the Maryland Department of Disabilities\, Assistive Technology Program. As an AT Specialist working in the disability and AT field for over 20 years\, Lori has a breadth of assistive technology knowledge and experience. She holds a BA and MFA from the University of Baltimore\, post graduate certification in Assistive Technology Applications from California State University Northridge and is currently completing a Masters in Special Education Applied Behavior Analysis from Bowling Green State University. She’s the mom of 3 children\, one of whom has a learning disability and two of whom have ADHD
URL:https://autismsocietymd.org/event/rown-bag-workshop-alternatives-to-guardianship/
CATEGORIES:Education,Workshops
ATTACH;FMTTYPE=image/png:https://autismsocietymd.org/wp-content/uploads/2025/10/1-2.png
END:VEVENT
BEGIN:VEVENT
DTSTART;TZID=America/New_York:20260324T120000
DTEND;TZID=America/New_York:20260324T130000
DTSTAMP:20260423T185828
CREATED:20260227T182702Z
LAST-MODIFIED:20260227T182702Z
UID:10002703-1774353600-1774357200@autismsocietymd.org
SUMMARY:Seminario Web Gratuito Para Almuerzo
DESCRIPTION:Taller gratuito de bolsos marrones\n\n\nSEMINARIO WEB GRATUITO PARA ALMUERZO\n\n\n\n\n\n\nComo puede la tecnología de asistencia ayudar al estudiante Neurodiverso? \nMarzo 24\, 2026 de 12:00pm – 1:00pm \nEvento virtual a través de Zoom – Es necesario registrarse. https://pathfindersforautism.org/assistivetechnologywebinar/ \nÚnase a este webinario para aprender como diferentes tecnologías de asistencia pueden ayudar y apoyar a estudiantes neurodiversos en Maryland. Este webinario abordará como la tecnología asistiva puede apoyar el aprendizaje\, la comunicación\, las habilidades de función ejecutiva\, las habilidades sociales\, la regulación y el comportamiento y más. \nEste webinario se ofrecerá simultáneamente en inglés y español. \nPresentado por Lori Berrong\, directora ejecutiva del Departamento de Discapacidades de MD\, Programa de Tecnología de Asistencia​​​​​​​. \nLori Berrong es la directora ejecutiva del Programa de Tecnología de Asistencia de Maryland (MD Assistive Technology Program). Como especialista en AT (Tecnología de Asistencia) que ha trabajado en el campo de la discapacidad y AT durante más de 20 años\, Lori cuenta con un amplio conocimiento y experiencia en tecnología asistencial. Ella tiene una Licenciatura (BA) y Maestría en Bellas Artes (MFA) de la Universidad de Baltimore; certificación de posgrado de la Universidad Estatal de California en Northridge en Aplicaciones de Tecnología de Asistencia y actualmente está completando una Maestría en Educación Especial con especialización en Análisis Conductual Aplicado en la Universidad Estatal de Bowling Green. Ella es madre de 3 hijos\, uno de los cuales tiene una discapacidad de aprendizaje y dos de los cuales tienen TDAH.
URL:https://autismsocietymd.org/event/seminario-web-gratuito-para-almuerzo/
CATEGORIES:Education,Espanol,Workshops
ATTACH;FMTTYPE=image/png:https://autismsocietymd.org/wp-content/uploads/2026/02/2-2.png
END:VEVENT
END:VCALENDAR