BEGIN:VCALENDAR
VERSION:2.0
PRODID:-//Autism Society of Maryland - ECPv6.15.17.1//NONSGML v1.0//EN
CALSCALE:GREGORIAN
METHOD:PUBLISH
X-WR-CALNAME:Autism Society of Maryland
X-ORIGINAL-URL:https://autismsocietymd.org
X-WR-CALDESC:Events for Autism Society of Maryland
REFRESH-INTERVAL;VALUE=DURATION:PT1H
X-Robots-Tag:noindex
X-PUBLISHED-TTL:PT1H
BEGIN:VTIMEZONE
TZID:America/New_York
BEGIN:DAYLIGHT
TZOFFSETFROM:-0500
TZOFFSETTO:-0400
TZNAME:EDT
DTSTART:20240310T070000
END:DAYLIGHT
BEGIN:STANDARD
TZOFFSETFROM:-0400
TZOFFSETTO:-0500
TZNAME:EST
DTSTART:20241103T060000
END:STANDARD
BEGIN:DAYLIGHT
TZOFFSETFROM:-0500
TZOFFSETTO:-0400
TZNAME:EDT
DTSTART:20250309T070000
END:DAYLIGHT
BEGIN:STANDARD
TZOFFSETFROM:-0400
TZOFFSETTO:-0500
TZNAME:EST
DTSTART:20251102T060000
END:STANDARD
BEGIN:DAYLIGHT
TZOFFSETFROM:-0500
TZOFFSETTO:-0400
TZNAME:EDT
DTSTART:20260308T070000
END:DAYLIGHT
BEGIN:STANDARD
TZOFFSETFROM:-0400
TZOFFSETTO:-0500
TZNAME:EST
DTSTART:20261101T060000
END:STANDARD
END:VTIMEZONE
BEGIN:VEVENT
DTSTART;TZID=America/New_York:20251122T100000
DTEND;TZID=America/New_York:20251122T150000
DTSTAMP:20260423T214801
CREATED:20251015T150306Z
LAST-MODIFIED:20251117T214720Z
UID:10002566-1763805600-1763823600@autismsocietymd.org
SUMMARY:IEP Boot Camp
DESCRIPTION:Join us for a half-day in-person conference on special education law with education attorneys Nicole Joseph and Kate Rabb\, and AUSOM special education consultant Beth Benevides. Nicole and Kate will walk AUSOM families through a practical\, parent-focused presentation about special education rights\, IEPs\, and 504 Plans. They’ll cover decisions about eligibility for an IEP or 504 Plan\, evaluations\, measurable IEP goals\, and progress monitoring. Parents\, guardians and caregivers will also learn tips and tricks for effective advocacy\, and feel empowered to raise concerns when their child’s education program is not meeting their needs. You’ll leave feeling empowered to push back when schools resist so you can secure the supports your child needs to thrive. \nIEP Boot Camp: Half-Day Conference \nSaturday\, November 22\, 2025 \n10:00am-3:00pm \nA “Pay-What-You-Can” Event \nREGISTER: https://app.dvforms.net/api/dv/qvp5wx \nNonProfit Collaborative\n9770 Patuxent Woods Drive\nColumbia\, MD 21046 \nFREE PARKING\nParking and entrance are behind the building \nThere will be a “Bring-Your-Own-Lunch” break. \n Presenters: \nNicole Joseph and Kate Rabb of Joseph and Rabb\, LLC \nBeth Benevides\, AUSOM special education consultant \nSponsored by the Autism Society of Maryland
URL:https://autismsocietymd.org/event/iep-boot-camp/
LOCATION:Autism Society of Maryland\, 9770 Patuxent Woods Drive\, Suite 308\, Columbia\, MD\, 21046\, United States
CATEGORIES:Education,Workshops
ATTACH;FMTTYPE=image/png:https://autismsocietymd.org/wp-content/uploads/2025/10/IEP-Bootcamp-V3-SM-1080-x-1080-px.png
END:VEVENT
END:VCALENDAR