BEGIN:VCALENDAR
VERSION:2.0
PRODID:-//Autism Society of Maryland - ECPv6.15.17.1//NONSGML v1.0//EN
CALSCALE:GREGORIAN
METHOD:PUBLISH
X-ORIGINAL-URL:https://autismsocietymd.org
X-WR-CALDESC:Events for Autism Society of Maryland
REFRESH-INTERVAL;VALUE=DURATION:PT1H
X-Robots-Tag:noindex
X-PUBLISHED-TTL:PT1H
BEGIN:VTIMEZONE
TZID:America/New_York
BEGIN:DAYLIGHT
TZOFFSETFROM:-0500
TZOFFSETTO:-0400
TZNAME:EDT
DTSTART:20240310T070000
END:DAYLIGHT
BEGIN:STANDARD
TZOFFSETFROM:-0400
TZOFFSETTO:-0500
TZNAME:EST
DTSTART:20241103T060000
END:STANDARD
BEGIN:DAYLIGHT
TZOFFSETFROM:-0500
TZOFFSETTO:-0400
TZNAME:EDT
DTSTART:20250309T070000
END:DAYLIGHT
BEGIN:STANDARD
TZOFFSETFROM:-0400
TZOFFSETTO:-0500
TZNAME:EST
DTSTART:20251102T060000
END:STANDARD
BEGIN:DAYLIGHT
TZOFFSETFROM:-0500
TZOFFSETTO:-0400
TZNAME:EDT
DTSTART:20260308T070000
END:DAYLIGHT
BEGIN:STANDARD
TZOFFSETFROM:-0400
TZOFFSETTO:-0500
TZNAME:EST
DTSTART:20261101T060000
END:STANDARD
END:VTIMEZONE
BEGIN:VEVENT
DTSTART;TZID=America/New_York:20250522T200000
DTEND;TZID=America/New_York:20250522T210000
DTSTAMP:20260424T134415
CREATED:20250517T032634Z
LAST-MODIFIED:20250522T180427Z
UID:10002497-1747944000-1747947600@autismsocietymd.org
SUMMARY:Water Safety Webinar
DESCRIPTION:Keep Summer Safe with Us! \nJoin the Autism Society of America and Dayna Harvey for a free\, informative webinar that will help you make this summer safer for your loved ones—especially around water. \nThursday\, May 22 @ 8:00 PM ET \nVirtual Link – To register\, please click here: https://events.teams.microsoft.com/event/6f61746a-300a-499b-a38f-5ad0edccd461@8482cbbf-e754-4c66-87d2-c401528dbf81 \nThrough powerful stories and eye-opening data\, you’ll learn simple\, actionable strategies to prevent drowning and promote safety for individuals with autism and their families. \nWhether it’s at the pool\, beach\, or even bath time—Miss Dayna’s ABCDEs of Drowning Prevention will give you 5 safety tools you can use right away at home and in your community. \n\nFree access to lifesaving safety resources\nPractical tips that make a real difference\nPerfect for parents\, caregivers\, and professionals
URL:https://autismsocietymd.org/event/water-safety-webinar/
LOCATION:MD
CATEGORIES:Education
ATTACH;FMTTYPE=image/png:https://autismsocietymd.org/wp-content/uploads/2025/05/2025-05_Water-Safety-and-Drowning-Webinar_Email-Banner.png
END:VEVENT
END:VCALENDAR