BEGIN:VCALENDAR
VERSION:2.0
PRODID:-//Autism Society of Maryland - ECPv6.15.17.1//NONSGML v1.0//EN
CALSCALE:GREGORIAN
METHOD:PUBLISH
X-ORIGINAL-URL:https://autismsocietymd.org
X-WR-CALDESC:Events for Autism Society of Maryland
REFRESH-INTERVAL;VALUE=DURATION:PT1H
X-Robots-Tag:noindex
X-PUBLISHED-TTL:PT1H
BEGIN:VTIMEZONE
TZID:America/New_York
BEGIN:DAYLIGHT
TZOFFSETFROM:-0500
TZOFFSETTO:-0400
TZNAME:EDT
DTSTART:20240310T070000
END:DAYLIGHT
BEGIN:STANDARD
TZOFFSETFROM:-0400
TZOFFSETTO:-0500
TZNAME:EST
DTSTART:20241103T060000
END:STANDARD
BEGIN:DAYLIGHT
TZOFFSETFROM:-0500
TZOFFSETTO:-0400
TZNAME:EDT
DTSTART:20250309T070000
END:DAYLIGHT
BEGIN:STANDARD
TZOFFSETFROM:-0400
TZOFFSETTO:-0500
TZNAME:EST
DTSTART:20251102T060000
END:STANDARD
BEGIN:DAYLIGHT
TZOFFSETFROM:-0500
TZOFFSETTO:-0400
TZNAME:EDT
DTSTART:20260308T070000
END:DAYLIGHT
BEGIN:STANDARD
TZOFFSETFROM:-0400
TZOFFSETTO:-0500
TZNAME:EST
DTSTART:20261101T060000
END:STANDARD
END:VTIMEZONE
BEGIN:VEVENT
DTSTART;TZID=America/New_York:20251210T120000
DTEND;TZID=America/New_York:20251210T130000
DTSTAMP:20260423T184950
CREATED:20251024T183142Z
LAST-MODIFIED:20251024T183214Z
UID:10002590-1765368000-1765371600@autismsocietymd.org
SUMMARY:Taller “Brown Bag” Gratuito Alternativas a la Tutela 
DESCRIPTION:Alternativas a la Tutela \n10 de diciembre de 2025 \n12:00 p.m. – 1:00 p.m. \nZoom: https://pathfindersforautism.org/alttoguardianship2025/ \nSi tiene alguna pregunta adicional comuníquese con nuestra Coordinadora de Recursos en español\, \nCatalina Ramos al 443-518-7681 o por textos al 443-620-8441 o catalina.ramos@autism.society.org \nPatrocinado por Pathfinders for Autism y la Sociedad de Autismo de Maryland  \nSe proporciona traducción simultánea al español \n¿Cuándo tu o un miembro de tu familia necesitan un tutor legal? \n¿Cuándo son apropiadas las alternativas a la tutela? \nLos participantes aprenderán sobre las alternativas a la tutela\, incluyendo directivas anticipadas de atención médica\, poderes notariales y toma de decisiones por sustituto. Jim guiará a los participantes a través de ejemplos de casos y responderá preguntas sobre la toma de decisiones para personas con discapacidades.  \nPresentador: \nJames Silver\, Esq.  \nAbogado Supervisor\, Programa de Tutela para Adultos  \nJames Silver es abogado supervisor en Maryland Legal Aid (Asistencia Legal de Maryland)\, especializado en Tutela de \nAdultos. Jim se graduó cum laude en 2007 de American University – The Washington College of Law y en 1997 de la New York University.  Ha dedicado 16 años a la práctica del derecho de educación especial y discapacidad\, así como a la gestión de litigios complejos de tutela y la creaxion de alternativas a la tutela. También es coeditor del manual actualizado\, Guardianship & Its Alternatives (La Tutela y sus alternativas)\, que será publicado por la University of Maryland Francis King Carey School of Law y la Maryland State Bar Association. Antes de comenzar su carrera legal\, Jim sirvió en el Cuerpo de Paz (Peace Corps) y trabajo durante cinco años como periodista en el norte de Virginia. Fuera del trabajo\, disfruta descubrir nuevas recetas y cocinar para su esposa y sus dos hijas.  \n 
URL:https://autismsocietymd.org/event/taller-brown-bag-gratuito-alternativas-a-la-tutela/
CATEGORIES:Education,Espanol
ATTACH;FMTTYPE=image/webp:https://autismsocietymd.org/wp-content/uploads/2025/10/2025-Alternatives-to-Guardianship-Flyer-8.5-x-11-in.webp
END:VEVENT
END:VCALENDAR