BEGIN:VCALENDAR
VERSION:2.0
PRODID:-//Autism Society of Maryland - ECPv6.15.17.1//NONSGML v1.0//EN
CALSCALE:GREGORIAN
METHOD:PUBLISH
X-WR-CALNAME:Autism Society of Maryland
X-ORIGINAL-URL:https://autismsocietymd.org
X-WR-CALDESC:Events for Autism Society of Maryland
REFRESH-INTERVAL;VALUE=DURATION:PT1H
X-Robots-Tag:noindex
X-PUBLISHED-TTL:PT1H
BEGIN:VTIMEZONE
TZID:America/New_York
BEGIN:DAYLIGHT
TZOFFSETFROM:-0500
TZOFFSETTO:-0400
TZNAME:EDT
DTSTART:20240310T070000
END:DAYLIGHT
BEGIN:STANDARD
TZOFFSETFROM:-0400
TZOFFSETTO:-0500
TZNAME:EST
DTSTART:20241103T060000
END:STANDARD
BEGIN:DAYLIGHT
TZOFFSETFROM:-0500
TZOFFSETTO:-0400
TZNAME:EDT
DTSTART:20250309T070000
END:DAYLIGHT
BEGIN:STANDARD
TZOFFSETFROM:-0400
TZOFFSETTO:-0500
TZNAME:EST
DTSTART:20251102T060000
END:STANDARD
BEGIN:DAYLIGHT
TZOFFSETFROM:-0500
TZOFFSETTO:-0400
TZNAME:EDT
DTSTART:20260308T070000
END:DAYLIGHT
BEGIN:STANDARD
TZOFFSETFROM:-0400
TZOFFSETTO:-0500
TZNAME:EST
DTSTART:20261101T060000
END:STANDARD
END:VTIMEZONE
BEGIN:VEVENT
DTSTART;TZID=America/New_York:20251023T100000
DTEND;TZID=America/New_York:20251023T120000
DTSTAMP:20260424T073801
CREATED:20250929T021113Z
LAST-MODIFIED:20251023T055143Z
UID:10002542-1761213600-1761220800@autismsocietymd.org
SUMMARY:Autism Hiring Program Hiring Event
DESCRIPTION:Free Fall Hiring Event: Grow the Neurodiversity of Your Workforce \nIn honor of National Disability Employment Awareness Month\, celebrated in October\, the Autism Hiring Program – an Initiative of the Autism Society of Maryland invites employers to a free hiring event on October 23! Connect with talented individuals on the autism spectrum who are ready to bring fresh perspectives\, creativity\, and innovation to your organization. \nDate: October 23\nTime: 10:00AM – 12:00 PM\nLocation: Autism Society of Maryland –\nHoward County Nonprofit Collaborative Training Room\n9770 Patuxent Woods Drive\, Columbia\, MD 21046 \nWhy Attend?\n✔️ Meet highly skilled candidates from neurodiverse backgrounds\n✔️ Learn how a neurodiverse workforce strengthens your organization\n✔️ Network with other employers committed to inclusive hiring \nThe Autism Hiring Program is an initiative of the Autism Society of Maryland\, fostering inclusive workplaces and creating meaningful career opportunities for neurodiverse individuals.\nProud Partners Supporting This Event:\nAnne Arundel Workforce Development Corp. | Maryland Works | Howard County Economic Development Authority | Howard County Office of Workforce Development | WorkSource Montgomery \nContact Linda Hoyt at linda.hoyt@autismsocietymd.org or call 410-290-3466\, ext. 7699.
URL:https://autismsocietymd.org/event/autism-hiring-program-hiring-event-2/
LOCATION:Autism Society of Maryland\, 9770 Patuxent Woods Drive\, Suite 308\, Columbia\, MD\, 21046\, United States
CATEGORIES:Autism Hiring Program
ATTACH;FMTTYPE=image/png:https://autismsocietymd.org/wp-content/uploads/2025/09/AHP-Hiring-Event-IG-Post-10.23.25-1.png
END:VEVENT
END:VCALENDAR