BEGIN:VCALENDAR
VERSION:2.0
PRODID:-//Autism Society of Maryland - ECPv6.15.17.1//NONSGML v1.0//EN
CALSCALE:GREGORIAN
METHOD:PUBLISH
X-ORIGINAL-URL:https://autismsocietymd.org
X-WR-CALDESC:Events for Autism Society of Maryland
REFRESH-INTERVAL;VALUE=DURATION:PT1H
X-Robots-Tag:noindex
X-PUBLISHED-TTL:PT1H
BEGIN:VTIMEZONE
TZID:America/New_York
BEGIN:DAYLIGHT
TZOFFSETFROM:-0500
TZOFFSETTO:-0400
TZNAME:EDT
DTSTART:20250309T070000
END:DAYLIGHT
BEGIN:STANDARD
TZOFFSETFROM:-0400
TZOFFSETTO:-0500
TZNAME:EST
DTSTART:20251102T060000
END:STANDARD
BEGIN:DAYLIGHT
TZOFFSETFROM:-0500
TZOFFSETTO:-0400
TZNAME:EDT
DTSTART:20260308T070000
END:DAYLIGHT
BEGIN:STANDARD
TZOFFSETFROM:-0400
TZOFFSETTO:-0500
TZNAME:EST
DTSTART:20261101T060000
END:STANDARD
BEGIN:DAYLIGHT
TZOFFSETFROM:-0500
TZOFFSETTO:-0400
TZNAME:EDT
DTSTART:20270314T070000
END:DAYLIGHT
BEGIN:STANDARD
TZOFFSETFROM:-0400
TZOFFSETTO:-0500
TZNAME:EST
DTSTART:20271107T060000
END:STANDARD
END:VTIMEZONE
BEGIN:VEVENT
DTSTART;TZID=America/New_York:20260609T100000
DTEND;TZID=America/New_York:20260609T140000
DTSTAMP:20260423T170448
CREATED:20260315T182612Z
LAST-MODIFIED:20260315T182612Z
UID:10002747-1780999200-1781013600@autismsocietymd.org
SUMMARY:Conozca a nuestra Coordinadora de Recursos en español de AUSOM
DESCRIPTION:Conozca a nuestra Coordinadora de Recursos en español de AUSOM: Catalina Ramos \nEste programa será el 2do. martes\nde cada mes\, 10AM-2PM \ncatalina.ramos@autismsocietymd.org \n443-518-7681 (Directo); 443-620-8441 (Textos) \nEl Centro de Multiservicios\n9900 Washington Blvd\nN. Laurel\, MD 20723 \nThis program will be the 2nd. Tuesday of each month\, 10AM-2PM\nThe Multiservice Center 9900 Washington Blvd N. Laurel\, MD 20723
URL:https://autismsocietymd.org/event/conozca-a-nuestra-coordinadora-de-recursos-en-espanol-de-ausom-14/
LOCATION:The Multiservice Center\, 9900 Washington Blvd\, Laurel\, MD\, United States
CATEGORIES:Autism Awarenss,Espanol,General Support,Outreach
ATTACH;FMTTYPE=image/png:https://autismsocietymd.org/wp-content/uploads/2025/10/Resource-Coordinator-Office-Hours_event-calendar_1080x1080-2-1.png
END:VEVENT
BEGIN:VEVENT
DTSTART;TZID=America/New_York:20260623T190000
DTEND;TZID=America/New_York:20260623T200000
DTSTAMP:20260423T170448
CREATED:20260310T021239Z
LAST-MODIFIED:20260310T021239Z
UID:10002708-1782241200-1782244800@autismsocietymd.org
SUMMARY:Adult Sibling Support Group
DESCRIPTION:Adult Sibling Support Group (Virtual)​​​​​​​ \nThe Adult Sibling Support Group is a free group that offers support to adult siblings who are caring for sisters and brothers with a range of disabilities\, not only Autism. We invite you to join us for discussions offering mutual support and resource-sharing. \nA one time registration for the group is required: https://app.donorview.com/pEk7r \nOnce registered you will receive an email with the zoom link. \nIf you register within 24 hours of the session\, we cannot guarantee that you’ll receive the reminder email and Zoom link. \nIf you have questions or concerns please contact Kelly Kryspin at kelly.kryspin@autismsocietymd.org for more details. \n 
URL:https://autismsocietymd.org/event/adult-sibling-support-group-13/
LOCATION:MD
CATEGORIES:Autism Awarenss,Family Support
ATTACH;FMTTYPE=image/png:https://autismsocietymd.org/wp-content/uploads/2024/02/Adult-Siblings-Group.png
END:VEVENT
END:VCALENDAR