BEGIN:VCALENDAR
VERSION:2.0
PRODID:-//Autism Society of Maryland - ECPv6.15.17.1//NONSGML v1.0//EN
CALSCALE:GREGORIAN
METHOD:PUBLISH
X-WR-CALNAME:Autism Society of Maryland
X-ORIGINAL-URL:https://autismsocietymd.org
X-WR-CALDESC:Events for Autism Society of Maryland
REFRESH-INTERVAL;VALUE=DURATION:PT1H
X-Robots-Tag:noindex
X-PUBLISHED-TTL:PT1H
BEGIN:VTIMEZONE
TZID:America/New_York
BEGIN:DAYLIGHT
TZOFFSETFROM:-0500
TZOFFSETTO:-0400
TZNAME:EDT
DTSTART:20240310T070000
END:DAYLIGHT
BEGIN:STANDARD
TZOFFSETFROM:-0400
TZOFFSETTO:-0500
TZNAME:EST
DTSTART:20241103T060000
END:STANDARD
BEGIN:DAYLIGHT
TZOFFSETFROM:-0500
TZOFFSETTO:-0400
TZNAME:EDT
DTSTART:20250309T070000
END:DAYLIGHT
BEGIN:STANDARD
TZOFFSETFROM:-0400
TZOFFSETTO:-0500
TZNAME:EST
DTSTART:20251102T060000
END:STANDARD
BEGIN:DAYLIGHT
TZOFFSETFROM:-0500
TZOFFSETTO:-0400
TZNAME:EDT
DTSTART:20260308T070000
END:DAYLIGHT
BEGIN:STANDARD
TZOFFSETFROM:-0400
TZOFFSETTO:-0500
TZNAME:EST
DTSTART:20261101T060000
END:STANDARD
END:VTIMEZONE
BEGIN:VEVENT
DTSTART;TZID=America/New_York:20251223T180000
DTEND;TZID=America/New_York:20251223T193000
DTSTAMP:20260423T184109
CREATED:20251218T002715Z
LAST-MODIFIED:20251218T003531Z
UID:10002601-1766512800-1766518200@autismsocietymd.org
SUMMARY:Adult Sibling Support Group
DESCRIPTION:Adult Sibling Support Group (Virtual)​​​​​​​ \nThe Adult Sibling Support Group is a free group that offers support to adult siblings who are caring for sisters and brothers with a range of disabilities\, not only Autism. We invite you to join us for discussions offering mutual support and resource-sharing. No registration required. Contact Kelly Kryspin at kelly.kryspin@autismsocietymd.org for more details. \n 
URL:https://autismsocietymd.org/event/adult-sibling-support-group-7/
LOCATION:MD
CATEGORIES:Autism Awarenss,Family Support
ATTACH;FMTTYPE=image/png:https://autismsocietymd.org/wp-content/uploads/2024/02/Adult-Siblings-Group.png
END:VEVENT
END:VCALENDAR