BEGIN:VCALENDAR
VERSION:2.0
PRODID:-//Autism Society of Maryland - ECPv6.15.17.1//NONSGML v1.0//EN
CALSCALE:GREGORIAN
METHOD:PUBLISH
X-WR-CALNAME:Autism Society of Maryland
X-ORIGINAL-URL:https://autismsocietymd.org
X-WR-CALDESC:Events for Autism Society of Maryland
REFRESH-INTERVAL;VALUE=DURATION:PT1H
X-Robots-Tag:noindex
X-PUBLISHED-TTL:PT1H
BEGIN:VTIMEZONE
TZID:America/New_York
BEGIN:DAYLIGHT
TZOFFSETFROM:-0500
TZOFFSETTO:-0400
TZNAME:EDT
DTSTART:20240310T070000
END:DAYLIGHT
BEGIN:STANDARD
TZOFFSETFROM:-0400
TZOFFSETTO:-0500
TZNAME:EST
DTSTART:20241103T060000
END:STANDARD
BEGIN:DAYLIGHT
TZOFFSETFROM:-0500
TZOFFSETTO:-0400
TZNAME:EDT
DTSTART:20250309T070000
END:DAYLIGHT
BEGIN:STANDARD
TZOFFSETFROM:-0400
TZOFFSETTO:-0500
TZNAME:EST
DTSTART:20251102T060000
END:STANDARD
BEGIN:DAYLIGHT
TZOFFSETFROM:-0500
TZOFFSETTO:-0400
TZNAME:EDT
DTSTART:20260308T070000
END:DAYLIGHT
BEGIN:STANDARD
TZOFFSETFROM:-0400
TZOFFSETTO:-0500
TZNAME:EST
DTSTART:20261101T060000
END:STANDARD
END:VTIMEZONE
BEGIN:VEVENT
DTSTART;TZID=America/New_York:20250517T090000
DTEND;TZID=America/New_York:20250517T130000
DTSTAMP:20260424T102734
CREATED:20240306T214431Z
LAST-MODIFIED:20250512T210708Z
UID:10002222-1747472400-1747486800@autismsocietymd.org
SUMMARY:Caminata 3KM Unidos por el Autismo
DESCRIPTION:CAMINATA 3KM UNIDOS POR EL AUTISMO \n\n\n\nPuede 17\, 2025 @ 9:00 AM – 1:00 PM \nCentennial Park\, Pavilion D\, Ellicott City\, MD \n¡Únase al grupo de apoyo para padres de AUSOM para dar un paseo por Centennial Lake\, jugar\, comer y mucho más! Más detalles próximamente! \nEste evento incluirá rifas\, juegos\, comida\, camisetas y mucho más. Se llevará a cabo en el Parque Centenario\, Pabellón D. \nPara más información\, póngase en contacto con: \nMarianela Estrada\, emailnella22@gmail.com\, 973-223-1024 \nAlex Arevalo\, ax.areval1@gmail.com\, 240-374-3368 \nCatalina Ramos\, catalina.ramos@autismsocietymd.org\, 443-518-7681\n\n\n\nUnited for Autism 3K Walk \n\n\n\n​​​​​​​May 17\, 2025 @ 9:00 AM – 1:00 PM \nCentennial Park\, Pavilion D\, Ellicott City\, MD \nJoin AUSOM’s Parents Support Group for a walk around Centennial Lake\, games\, food and much more! \nThis event will include: raffles\, games\, food\, t-shirts and much more. It will be at Centennial Park\, Pavilion D \nFor more information\, contact: \nMarianela Estrada\, emailnella22@gmail.com\, 973-223-1024 \nAlex Arevalo\, ax.areval1@gmail.com\, 240-374-3368 \nCatalina Ramos\, catalina.ramos@autismsocietymd.org\, 443-518-7681
URL:https://autismsocietymd.org/event/lpsg-norma-morales-autism-acceptance-3k-walk/
LOCATION:MD
CATEGORIES:Advocacy,Autism Awarenss,Latino Parent Support
ATTACH;FMTTYPE=image/jpeg:https://autismsocietymd.org/wp-content/uploads/2024/03/2025UNIDOSAutismWalk-ICON-1080-x-1080-px-5.9.25.jpg
END:VEVENT
END:VCALENDAR