BEGIN:VCALENDAR
VERSION:2.0
PRODID:-//Autism Society of Maryland - ECPv6.15.17.1//NONSGML v1.0//EN
CALSCALE:GREGORIAN
METHOD:PUBLISH
X-ORIGINAL-URL:https://autismsocietymd.org
X-WR-CALDESC:Events for Autism Society of Maryland
REFRESH-INTERVAL;VALUE=DURATION:PT1H
X-Robots-Tag:noindex
X-PUBLISHED-TTL:PT1H
BEGIN:VTIMEZONE
TZID:America/New_York
BEGIN:DAYLIGHT
TZOFFSETFROM:-0500
TZOFFSETTO:-0400
TZNAME:EDT
DTSTART:20240310T070000
END:DAYLIGHT
BEGIN:STANDARD
TZOFFSETFROM:-0400
TZOFFSETTO:-0500
TZNAME:EST
DTSTART:20241103T060000
END:STANDARD
BEGIN:DAYLIGHT
TZOFFSETFROM:-0500
TZOFFSETTO:-0400
TZNAME:EDT
DTSTART:20250309T070000
END:DAYLIGHT
BEGIN:STANDARD
TZOFFSETFROM:-0400
TZOFFSETTO:-0500
TZNAME:EST
DTSTART:20251102T060000
END:STANDARD
BEGIN:DAYLIGHT
TZOFFSETFROM:-0500
TZOFFSETTO:-0400
TZNAME:EDT
DTSTART:20260308T070000
END:DAYLIGHT
BEGIN:STANDARD
TZOFFSETFROM:-0400
TZOFFSETTO:-0500
TZNAME:EST
DTSTART:20261101T060000
END:STANDARD
END:VTIMEZONE
BEGIN:VEVENT
DTSTART;TZID=America/New_York:20250503T110000
DTEND;TZID=America/New_York:20250503T140000
DTSTAMP:20260424T090233
CREATED:20250206T013427Z
LAST-MODIFIED:20250403T194550Z
UID:10002440-1746270000-1746280800@autismsocietymd.org
SUMMARY:Autism in the Park - Anne Arundel County
DESCRIPTION:Join us for a final celebration of Autism Acceptance Month at Anne Arundel County’s Autism in the Park Celebration! \nMay 3\, 2025 \n11:00 AM – 2:00 PM \nLake Waterford Park \n830 Pasadena Rd\, Pasadena MD 21122 \n#CelebrateDifferences in an inclusive\, playful environment at Autism in the Park Anne Arundel County! Join us at Lake Waterford Park’s Blue Jay Pavilion and playground on May 3rd from 11:00am-2:00pm for interactive play\, entertainers\, face painting\, Autism Resource Fair\, food truck\, Bocce and Cornhole\, parachute play\, playground and more! FREE and Fun for all ages!\n\nPresented by: Autism Society of Maryland and Anne Arundel County Recreation and Parks.  Sponsors:  Attain ABA\, Children’s Specialized ABA\, and SECU.\n\nTake the opportunity to visit with members of the disability community\, government agencies\, nonprofit organizations\, and elected officials at the Autism Resource Fair.\nCLICK HERE for more information on Autism Acceptance Month Events!
URL:https://autismsocietymd.org/event/autism-in-the-park-anne-arundel-county/
LOCATION:MD
CATEGORIES:Advocacy,Autism Awarenss
ATTACH;FMTTYPE=image/png:https://autismsocietymd.org/wp-content/uploads/2025/02/Autism-in-the-Park-AACo-ICON-Instagram-Post.png
END:VEVENT
END:VCALENDAR