BEGIN:VCALENDAR
VERSION:2.0
PRODID:-//Autism Society of Maryland - ECPv6.15.17.1//NONSGML v1.0//EN
CALSCALE:GREGORIAN
METHOD:PUBLISH
X-WR-CALNAME:Autism Society of Maryland
X-ORIGINAL-URL:https://autismsocietymd.org
X-WR-CALDESC:Events for Autism Society of Maryland
REFRESH-INTERVAL;VALUE=DURATION:PT1H
X-Robots-Tag:noindex
X-PUBLISHED-TTL:PT1H
BEGIN:VTIMEZONE
TZID:America/New_York
BEGIN:DAYLIGHT
TZOFFSETFROM:-0500
TZOFFSETTO:-0400
TZNAME:EDT
DTSTART:20240310T070000
END:DAYLIGHT
BEGIN:STANDARD
TZOFFSETFROM:-0400
TZOFFSETTO:-0500
TZNAME:EST
DTSTART:20241103T060000
END:STANDARD
BEGIN:DAYLIGHT
TZOFFSETFROM:-0500
TZOFFSETTO:-0400
TZNAME:EDT
DTSTART:20250309T070000
END:DAYLIGHT
BEGIN:STANDARD
TZOFFSETFROM:-0400
TZOFFSETTO:-0500
TZNAME:EST
DTSTART:20251102T060000
END:STANDARD
BEGIN:DAYLIGHT
TZOFFSETFROM:-0500
TZOFFSETTO:-0400
TZNAME:EDT
DTSTART:20260308T070000
END:DAYLIGHT
BEGIN:STANDARD
TZOFFSETFROM:-0400
TZOFFSETTO:-0500
TZNAME:EST
DTSTART:20261101T060000
END:STANDARD
END:VTIMEZONE
BEGIN:VEVENT
DTSTART;TZID=America/New_York:20250212T120000
DTEND;TZID=America/New_York:20250212T130000
DTSTAMP:20260424T201105
CREATED:20250105T231704Z
LAST-MODIFIED:20250105T235422Z
UID:10002400-1739361600-1739365200@autismsocietymd.org
SUMMARY:Dealing with Screen Overuse in Neurodivergent Teens and Young Adults
DESCRIPTION:Webinar: Dealing with Screen Overuse in Neurodivergent Teens and Young Adults\nFebruary 12\, 2025  \nNoon-1:00PM \nVirtual by Zoom \nRegister Here – https://pathfindersforautism.org/screen-overuse/ \nSe proporciona traducción simultánea al español \nRick Silver\, MD\, and John Yearick\, LCPC of Thrive Emerge will guide participants in a “do-it-yourself” program for reducing screen overuse in their homes. The program will help caregivers feel more confident in their role as “change agents” to reduce tension in the home as they move their children to healthier screen behaviors. \nFREE to attend but registration is required to receive the Zoom link – REGISTER HERE: https://pathfindersforautism.org/screen-overuse/ \nSponsored by Pathfinders for Autism and the Autism Society of Maryland.
URL:https://autismsocietymd.org/event/dealing-with-screen-overuse-in-neurodivergent-teens-and-young-adults/
LOCATION:MD
CATEGORIES:Autism Awarenss,Education
ATTACH;FMTTYPE=image/png:https://autismsocietymd.org/wp-content/uploads/2025/01/Digital-Addiction-webinar-social-media-3-300x300-1.png
END:VEVENT
END:VCALENDAR