BEGIN:VCALENDAR
VERSION:2.0
PRODID:-//Autism Society of Maryland - ECPv6.15.17.1//NONSGML v1.0//EN
CALSCALE:GREGORIAN
METHOD:PUBLISH
X-ORIGINAL-URL:https://autismsocietymd.org
X-WR-CALDESC:Events for Autism Society of Maryland
REFRESH-INTERVAL;VALUE=DURATION:PT1H
X-Robots-Tag:noindex
X-PUBLISHED-TTL:PT1H
BEGIN:VTIMEZONE
TZID:America/New_York
BEGIN:DAYLIGHT
TZOFFSETFROM:-0500
TZOFFSETTO:-0400
TZNAME:EDT
DTSTART:20240310T070000
END:DAYLIGHT
BEGIN:STANDARD
TZOFFSETFROM:-0400
TZOFFSETTO:-0500
TZNAME:EST
DTSTART:20241103T060000
END:STANDARD
BEGIN:DAYLIGHT
TZOFFSETFROM:-0500
TZOFFSETTO:-0400
TZNAME:EDT
DTSTART:20250309T070000
END:DAYLIGHT
BEGIN:STANDARD
TZOFFSETFROM:-0400
TZOFFSETTO:-0500
TZNAME:EST
DTSTART:20251102T060000
END:STANDARD
BEGIN:DAYLIGHT
TZOFFSETFROM:-0500
TZOFFSETTO:-0400
TZNAME:EDT
DTSTART:20260308T070000
END:DAYLIGHT
BEGIN:STANDARD
TZOFFSETFROM:-0400
TZOFFSETTO:-0500
TZNAME:EST
DTSTART:20261101T060000
END:STANDARD
END:VTIMEZONE
BEGIN:VEVENT
DTSTART;VALUE=DATE:20250401
DTEND;VALUE=DATE:20250501
DTSTAMP:20260424T084323
CREATED:20250206T005229Z
LAST-MODIFIED:20250227T222952Z
UID:10002433-1743465600-1746057599@autismsocietymd.org
SUMMARY:Autism Acceptance Month
DESCRIPTION:April is Autism Acceptance Month! Throughout the month\,the Autism Society of Maryland (AUSOM) held multiple events and fundraisers  to #CelebrateDifferences\, recognizing the multitude of experiences within the Autism community. \nAcceptance creates a world where everyone in the Autism community is connected to the support they need\, when they need it. And by everyone\, we mean every unique individual. \nFrom Autistic individuals who require 24/7 lifetime support services and their caregivers\, to Autistic individuals living fully independent lives\, Acceptance\, Inclusion and Connection are critical to ensuring everyone in the Autism community can access what they need to live to their fullest. \nCLICK HERE for more information on Autism Acceptance Month Events! \n 
URL:https://autismsocietymd.org/event/autism-acceptance-month/
LOCATION:MD
CATEGORIES:Autism Awarenss
ATTACH;FMTTYPE=image/png:https://autismsocietymd.org/wp-content/uploads/2025/02/Autism-Acceptance-Month-1080x1080-4.png
END:VEVENT
BEGIN:VEVENT
DTSTART;VALUE=DATE:20250402
DTEND;VALUE=DATE:20250403
DTSTAMP:20260424T084323
CREATED:20250222T174623Z
LAST-MODIFIED:20250319T152832Z
UID:10002457-1743552000-1743638399@autismsocietymd.org
SUMMARY:Autism Awareness Day
DESCRIPTION:On Autism Awareness Day\, we recognize and celebrate the diverse experiences of the autism community while advocating for greater acceptance\, inclusion\, and support. At the Autism Society of Maryland\, we believe that awareness is just the beginning—true impact comes from fostering understanding and creating a world where autistic individuals and their families feel valued and supported every day. Join us in embracing neurodiversity\, amplifying autistic voices\, and working toward a more inclusive society. Together\, we can build a future where everyone can thrive. \nCLICK HERE for more information on Autism Acceptance Month Events!
URL:https://autismsocietymd.org/event/autism-acceptance-day-3/
LOCATION:MD
CATEGORIES:Advocacy,Autism Awarenss
ATTACH;FMTTYPE=image/png:https://autismsocietymd.org/wp-content/uploads/2025/02/AUTISM-5.png
END:VEVENT
BEGIN:VEVENT
DTSTART;TZID=America/New_York:20250405T100000
DTEND;TZID=America/New_York:20250405T140000
DTSTAMP:20260424T084323
CREATED:20250319T153734Z
LAST-MODIFIED:20250321T013840Z
UID:10002460-1743847200-1743861600@autismsocietymd.org
SUMMARY:Family Resource Event & Storytime
DESCRIPTION:Join us Saturday\, April 5th at Discoveries\, the Library at the Annapolis Mall! We will have representative at the Community Pantry from 10am – 2pm. Then stick around and join us for Storytime from 1pm – 2pm! This exciting event will focus on the joys of being yourself\, no matter who you are! Following the storytime\, representatives from The Autism Society of Maryland will offer resources to families and be available to answer questions. \nDiscoveries: The Library at the Mall \n2250 Annapolis Mall \nAnnapolis\, MD \n410-222-0133
URL:https://autismsocietymd.org/event/family-resource-event-storytime/
LOCATION:Discoveries – The Library at the Annapolis Mall\, 2250 Annapolis Mall\, Annapolis\, MD\, 21401\, United States
CATEGORIES:Autism Awarenss,Education,Outreach
ATTACH;FMTTYPE=image/png:https://autismsocietymd.org/wp-content/uploads/2025/03/AAM-2025-Discoveries-Library-Mall-Event-3-1.png
END:VEVENT
BEGIN:VEVENT
DTSTART;TZID=America/New_York:20250405T100000
DTEND;TZID=America/New_York:20250405T140000
DTSTAMP:20260424T084323
CREATED:20250325T195812Z
LAST-MODIFIED:20250325T195812Z
UID:10002486-1743847200-1743861600@autismsocietymd.org
SUMMARY:Respite Resource & Health Fair - Moco
DESCRIPTION:You’re Invited to The Arc Montgomery County’s Respite Resource & Health Fair! \nEvent Details: \n\nDate: Saturday\, April 5\, 2025\nTime: 10 am–2 pm\nLocation: Activity Center at Bohrer Park\, 506 S Frederick Ave\, Gaithersburg\, MD 20877\nCost: FREE!\nINFO: Visit the website here – https://thearcmontgomerycounty.org/what-we-do/respite/respite-resource-fair.html\n\nDOWNLOAD THE FLYERS HERE – ENGLISH     SPANISH    CHINESE \nLooking for resources to make life easier\, healthier\, and more connected? Join us for a fun and engaging day where people with disabilities\, seniors\, caregivers\, and families can explore a world of support! \nWhat to Expect: \n\nFree health screenings\nInteractive workshops\nRespite care options\nConnections to local services\nGiveaways and more!\n\nThis event is designed just for you—whether you’re a person with disabilities\, a family member\, a Direct Support Professional\, or someone who simply wants to learn more about community resources. Come find what you need and meet people who care! \nHave questions? Email Julia.Abate@TheArcMoCo.org \nDon’t miss out—mark your calendar and bring a friend (or two)! See you there!
URL:https://autismsocietymd.org/event/respite-resource-health-fair-moco/
LOCATION:Activity Center at Bohrer Park\, 506 S Frederick Ave\, Gaithersburg\, MD\, 20855\, United States
CATEGORIES:Autism Awarenss,Education,Fitness,Outreach
ATTACH;FMTTYPE=image/png:https://autismsocietymd.org/wp-content/uploads/2025/03/Untitled-design-16.png
END:VEVENT
BEGIN:VEVENT
DTSTART;TZID=America/New_York:20250405T110000
DTEND;TZID=America/New_York:20250405T140000
DTSTAMP:20260424T084323
CREATED:20250206T010249Z
LAST-MODIFIED:20250321T015339Z
UID:10002435-1743850800-1743861600@autismsocietymd.org
SUMMARY:Shine Brighter Together - MOCO Autism Acceptance Month
DESCRIPTION:This event is FREE and open to the public. \nApril is Autism Acceptance Month! To recognize its significance\, various agencies from across the county are “shining brighter together” at a fun family-friendly event at Wheaton Regional Park! Participate in hands-on\, sensory-friendly activities while learning more about autism and the variety of resources available in Montgomery County. \n\n\nMore Information: Download this FLYER or VISIT: https://montgomeryparks.org/events/shine-brighter-together/ \n\n\nMontgomery Parks is dedicated to providing quality services and programs that are inclusive and accessible to all. \nFor questions about this event\, please contact the Program Access Office. \nEmail: ProgramAccess@MontgomeryParks.org \nOffice: 301-495-2581 \nRain Date: Saturday\, April 26\, 2025 \nCLICK HERE for more information on Autism Acceptance Month Events!
URL:https://autismsocietymd.org/event/shine-brighter-together/
LOCATION:Wheaton Regional Park\, 2000 Shorefield Road\, Wheaton\, Maryland
CATEGORIES:Autism Awarenss
ATTACH;FMTTYPE=image/png:https://autismsocietymd.org/wp-content/uploads/2025/02/Shine-Brighter-2024.png
END:VEVENT
BEGIN:VEVENT
DTSTART;TZID=America/New_York:20250406T130000
DTEND;TZID=America/New_York:20250406T160000
DTSTAMP:20260424T084323
CREATED:20250206T012040Z
LAST-MODIFIED:20250326T012055Z
UID:10002437-1743944400-1743955200@autismsocietymd.org
SUMMARY:Joan Karasik Transition Resource Fair - MOCO
DESCRIPTION:Joan Karasik Transition Resource Fair \nApril 6\, 202\n1:00 PM – 4:00 PM \nMontgomery County Community College \nThis resource fair is for teens and adults with disabilities. Attendees will be able to speak with more than 60 government agencies\, nonprofit organizations and companies service people with intellectual disabilities and autism – housing\, social/recreational opportunities\, education/training\, employment\, government benefits. Come with your questions – go home with answers! \nVisit the Ausom Resource table at this event! \nFree Parking and Admission \nNo registration is needed. \nCLICK HERE for more information on Autism Acceptance Month Events!
URL:https://autismsocietymd.org/event/joan-karasik-transition-resource-fair-moco/
LOCATION:Montgomery College Rockville\, 51 Mannakee St\, MD\, 20850
CATEGORIES:Autism Awarenss,Education
ATTACH;FMTTYPE=image/png:https://autismsocietymd.org/wp-content/uploads/2025/02/Untitled-design-18.png
END:VEVENT
BEGIN:VEVENT
DTSTART;TZID=America/New_York:20250406T130000
DTEND;TZID=America/New_York:20250406T160000
DTSTAMP:20260424T084323
CREATED:20250326T012323Z
LAST-MODIFIED:20250326T012353Z
UID:10002487-1743944400-1743955200@autismsocietymd.org
SUMMARY:Feria De Recursos "Joan Karaski" - MOCO
DESCRIPTION:Feria De Recursos “Joan Karaski” \n6 de abril de 2025  \n13:00 – 16:00  \nMontgomery County Community College \nEsta feria de recursos es para adolescentes y adultos con discapacidades. Los asistentes podrán hablar con más de 60 agencias gubernamentales\, organizaciones sin fines de lucro y empresas que brindan servicios a personas con discapacidad intelectual y autismo: vivienda\, oportunidades sociales y recreativas\, educación y capacitación\, empleo y beneficios gubernamentales. ¡Ven con tus preguntas y regresa con las respuestas! \n¡Visite la Mesa de Recursos de AUSOM en la Feria!  \nEstacionamiento y entrada gratuitos.  \nNo es necesario registrarse. \n¡HAGA CLIC AQUÍ para obtener más información sobre los eventos del Mes de Aceptación del Autismo!
URL:https://autismsocietymd.org/event/feria-de-recursos-joan-karaski-moco/
LOCATION:Montgomery College Rockville\, 51 Mannakee St\, MD\, 20850
CATEGORIES:Autism Awarenss,Education
ATTACH;FMTTYPE=image/png:https://autismsocietymd.org/wp-content/uploads/2025/03/Untitled-design-17-1.png
END:VEVENT
BEGIN:VEVENT
DTSTART;TZID=America/New_York:20250413T100000
DTEND;TZID=America/New_York:20250413T140000
DTSTAMP:20260424T084323
CREATED:20250206T012711Z
LAST-MODIFIED:20250411T190113Z
UID:10002438-1744538400-1744552800@autismsocietymd.org
SUMMARY:Autism in the Park Howard County - POSTPONED to RAIN DATE\, APRIL 13
DESCRIPTION:Celebrate Autism Acceptance Month with us at Autism in the Park!   \nNEW DATE!  SUNDAY\, APRIL 13*\n10:00 AM – 2:00 PM\nLaura’s Place Playground\, in the North area of Blandair Regional Park\nColumbia\, MD\n*Originally scheduled for April 12 \n\n\nJoin us for this FAVORITE Autism Acceptance Month Event! Autism in the Park is FREE for all attendees and allows family and friends to enjoy opportunities to visit with first responders\, elected representatives\, learn about the Autism community\, enjoy interactive play\, entertainers\, face painting\, music and food truck.\n\n\n \nPresented by: Autism Society of Maryland and Howard County Department of Recreation and Parks.  Sponsors: Verbal Beginnings\, Attain ABA\, SECU\, Blue Balloon and SPIRIT Club. Community partners joining us are Howard County Police Department\, Howard County Public Schools\,  SPIRIT Club\, Loan Closet\, Equipment Connections for Children\, Parents Place of Maryland\, Howard County Fire & Rescue. The park is located at 5750 Oakland Mills Road in Columbia\, MD and the event will be held in the North Area.\n \nNote on Parking:  There is limited parking in the lot adjacent to the event; however\, there will be shuttles run by HC Dept. of Recreation and Parks from the other parking lots in Blandair Park.\n\n\nPlease follow the signs on where to park and pick up the shuttle bus!\n\n\n\nBlandair Park Map\n\n\n\nBlandair Park – North Area\n\n\n\n\nCLICK HERE for more information on Autism Acceptance Month Events!
URL:https://autismsocietymd.org/event/autism-in-the-park-howard-county/
LOCATION:MD
CATEGORIES:Advocacy,Autism Awarenss
ATTACH;FMTTYPE=image/png:https://autismsocietymd.org/wp-content/uploads/2025/04/Autism-in-the-Park-ICON-Instagram-Post-2-2.png
END:VEVENT
BEGIN:VEVENT
DTSTART;TZID=America/New_York:20250417T180000
DTEND;TZID=America/New_York:20250417T200000
DTSTAMP:20260424T084323
CREATED:20250406T033935Z
LAST-MODIFIED:20250406T035616Z
UID:10002493-1744912800-1744920000@autismsocietymd.org
SUMMARY:Safe Splash Swim School Safety Awareness Event
DESCRIPTION:APRIL is AUTISM AWARENESS MONTH – Join us for a Special Event \nThursday April 17th\n6:00pm\nSafeSplash Swim School – MontgomeryVillage\n19312 Montgomery Village Ave.\nMontgomery Village MD. 20886\n(301)-867-7946\nLocmd0012@safesplash.com \nTo Register please CLICK HERE \nIn honor of Autism Awareness Month\, we are hosting a special Ice Cream Party & Guest Speaker to celebrate and support individuals with unique needs. As part of our efforts to raise awareness\, we will also be highlighting the critical skill of swimming—an important life-saving ability\, especially for children who are naturally drawn to water. Tragically\, studies show that nearly 70% of drowning incidents involve individuals with autism-related conditions. \nTo help shed light on this important topic\, we are excited to welcome guest speaker Brittany Bledsoe\, a mother who will share her deeply moving story about her child’s experience. Brittany’s experience emphasizes the impact of swimming skills and the role they play in safety and independence. \nWe invite you to attend this event\, listen to Brittany’s powerful message\, and help us spread awareness about the importance of swimming for those who may be more vulnerable in aquatic environments. Feel free to bring along friends\, family\, or anyone you may know with disabilities or who would benefit from hearing this story and learning more about this important issue. \nLet’s come together to celebrate\, learn\, and raise
URL:https://autismsocietymd.org/event/safe-splash-swim-school-safety-awareness-event/
LOCATION:Safe Splash Swim School – Montgomery Village\, 19312 Montgomery Village Ave.\, Montgomery Village\, MD\, 20886\, United States
CATEGORIES:Autism Awarenss,Education
ATTACH;FMTTYPE=image/png:https://autismsocietymd.org/wp-content/uploads/2025/04/Safe-Splash-Swim-School-.png
END:VEVENT
END:VCALENDAR