BEGIN:VCALENDAR
VERSION:2.0
PRODID:-//Autism Society of Maryland - ECPv6.15.17.1//NONSGML v1.0//EN
CALSCALE:GREGORIAN
METHOD:PUBLISH
X-WR-CALNAME:Autism Society of Maryland
X-ORIGINAL-URL:https://autismsocietymd.org
X-WR-CALDESC:Events for Autism Society of Maryland
REFRESH-INTERVAL;VALUE=DURATION:PT1H
X-Robots-Tag:noindex
X-PUBLISHED-TTL:PT1H
BEGIN:VTIMEZONE
TZID:America/New_York
BEGIN:DAYLIGHT
TZOFFSETFROM:-0500
TZOFFSETTO:-0400
TZNAME:EDT
DTSTART:20250309T070000
END:DAYLIGHT
BEGIN:STANDARD
TZOFFSETFROM:-0400
TZOFFSETTO:-0500
TZNAME:EST
DTSTART:20251102T060000
END:STANDARD
BEGIN:DAYLIGHT
TZOFFSETFROM:-0500
TZOFFSETTO:-0400
TZNAME:EDT
DTSTART:20260308T070000
END:DAYLIGHT
BEGIN:STANDARD
TZOFFSETFROM:-0400
TZOFFSETTO:-0500
TZNAME:EST
DTSTART:20261101T060000
END:STANDARD
BEGIN:DAYLIGHT
TZOFFSETFROM:-0500
TZOFFSETTO:-0400
TZNAME:EDT
DTSTART:20270314T070000
END:DAYLIGHT
BEGIN:STANDARD
TZOFFSETFROM:-0400
TZOFFSETTO:-0500
TZNAME:EST
DTSTART:20271107T060000
END:STANDARD
END:VTIMEZONE
BEGIN:VEVENT
DTSTART;TZID=America/New_York:20260411T100000
DTEND;TZID=America/New_York:20260411T140000
DTSTAMP:20260424T113844
CREATED:20260208T215118Z
LAST-MODIFIED:20260315T232354Z
UID:10002701-1775901600-1775916000@autismsocietymd.org
SUMMARY:Autism in the Park Howard County
DESCRIPTION:Celebrate Autism Acceptance Month with us at Autism in the Park!   \nSaturday\, April 11\, 2026\n10:00 AM – 2:00 PM\nLaura’s Place Playground\, in the North area of Blandair Regional Park\nColumbia\, MD\n*RAIN DATE IS APRIL 12\, 2026 \n\n\nJoin us for this FAVORITE Autism Acceptance Month Event! Autism in the Park is FREE for all attendees and allows family and friends to enjoy opportunities to visit with first responders\, elected representatives\, learn about the Autism community\, enjoy interactive play\, entertainers\, face painting\, music and food truck.\n\n\n\nPresented by: Autism Society of Maryland and Howard County Department of Recreation and Parks.   \n\n\nNote on Parking:  There is limited parking in the lot adjacent to the event; however\, there will be shuttles run by HC Dept. of Recreation and Parks from the other parking lots in Blandair Park. \n\n\n\nPlease follow the signs on where to park and pick up the shuttle bus!\n\n\n\nBlandair Park Map \n\n\n\n\nBlandair Park – North Area\n\n\n\n\nCLICK HERE for more information on Autism Acceptance Month Events! \n¡Únase a nosotros en este evento FAVORITO del Mes de la Aceptación del Autismo! Autismo en el Parque es GRATUITO para todos los asistentes y ofrece a familiares y amigos la oportunidad de conversar con personal de primeros auxilios y representantes electos\, aprender sobre la comunidad autista\, disfrutar de juegos interactivos\, espectáculos\, pintacaritas\, música y food trucks. Presentado por: Sociedad de Autismo de Maryland y Departamento de Recreación y Parques del Condado de Howard.  \nNota sobre el estacionamiento: El estacionamiento contiguo al evento es limitado; sin embargo\, el Departamento de Recreación y Parques del Condado de Howard ofrecerá servicio de transporte desde los demás estacionamientos del Parque Blandair.  \n¡Siga las señales para estacionar y tomar el autobús de enlace! Mapa del Parque Blandair \n Parque Blandair – Área Norte ¡ \nHAGA CLIC AQUÍ para obtener más información sobre los eventos del Mes de la Aceptación del Autismo!
URL:https://autismsocietymd.org/event/autism-in-the-park-howard-county-2/
LOCATION:Blandair Park\, 5700 Oakland Mills Rd.\, Columbia\, MD\, 21045\, United States
CATEGORIES:Advocacy,Autism Awarenss
ATTACH;FMTTYPE=image/png:https://autismsocietymd.org/wp-content/uploads/2026/02/Autism-in-the-Park-ICON-Instagram-Post.png
END:VEVENT
BEGIN:VEVENT
DTSTART;TZID=America/New_York:20260412T100000
DTEND;TZID=America/New_York:20260412T140000
DTSTAMP:20260424T113844
CREATED:20260210T192040Z
LAST-MODIFIED:20260315T232546Z
UID:10002702-1775988000-1776002400@autismsocietymd.org
SUMMARY:RAIN DATE: Autism in the Park Howard County
DESCRIPTION:RAIN DATE! \n¡Fecha alternativa en caso de lluvia! \nIf we get rained out on Saturday April 11\, we will hold this event on Sunday\, April 12th. \nCelebrate Autism Acceptance Month with us at Autism in the Park!   \nSunday\, April 12\, 2026/Abril 12\n10:00 AM – 2:00 PM\nLaura’s Place Playground\, in the North area of Blandair Regional Park\nColumbia\, MD \n\n\nJoin us for this FAVORITE Autism Acceptance Month Event! Autism in the Park is FREE for all attendees and allows family and friends to enjoy opportunities to visit with first responders\, elected representatives\, learn about the Autism community\, enjoy interactive play\, entertainers\, face painting\, music and food truck.\n\n\n\nPresented by: Autism Society of Maryland and Howard County Department of Recreation and Parks.   \n\n\nNote on Parking:  There is limited parking in the lot adjacent to the event; however\, there will be shuttles run by HC Dept. of Recreation and Parks from the other parking lots in Blandair Park. \n\n\n\nPlease follow the signs on where to park and pick up the shuttle bus!\n\n\n\nBlandair Park Map \n\n\n\n\nBlandair Park – North Area\n\n\n\n\nCLICK HERE for more information on Autism Acceptance Month Events! \n¡Únase a nosotros en este evento FAVORITO del Mes de la Aceptación del Autismo! Autismo en el Parque es GRATUITO para todos los asistentes y ofrece a familiares y amigos la oportunidad de conversar con personal de primeros auxilios y representantes electos\, aprender sobre la comunidad autista\, disfrutar de juegos interactivos\, espectáculos\, pintacaritas\, música y food trucks. Presentado por: Sociedad de Autismo de Maryland y Departamento de Recreación y Parques del Condado de Howard.  \nNota sobre el estacionamiento: El estacionamiento contiguo al evento es limitado; sin embargo\, el Departamento de Recreación y Parques del Condado de Howard ofrecerá servicio de transporte desde los demás estacionamientos del Parque Blandair.  \n¡Siga las señales para estacionar y tomar el autobús de enlace! Mapa del Parque Blandair \n Parque Blandair – Área Norte ¡ \nHAGA CLIC AQUÍ para obtener más información sobre los eventos del Mes de la Aceptación del Autismo!
URL:https://autismsocietymd.org/event/autism-in-the-park-howard-county-3/
LOCATION:Blandair Park\, 5700 Oakland Mills Rd.\, Columbia\, MD\, 21045\, United States
CATEGORIES:Advocacy,Autism Awarenss
ATTACH;FMTTYPE=image/png:https://autismsocietymd.org/wp-content/uploads/2026/02/Autism-in-the-Park-ICON-Instagram-Post-1.png
END:VEVENT
BEGIN:VEVENT
DTSTART;TZID=America/New_York:20260415T190000
DTEND;TZID=America/New_York:20260415T203000
DTSTAMP:20260424T113844
CREATED:20260310T031548Z
LAST-MODIFIED:20260310T031637Z
UID:10002717-1776279600-1776285000@autismsocietymd.org
SUMMARY:AAM Self Advocate Panel
DESCRIPTION:AAM Self-Advocate Panel​​​​​​​ \nIN OUR OWN WORDS \nApril 15\, 2026 from 7 pm – 8:30 pm\nFREE – Virtual by Zoom – Registration is Required\nAutism Acceptance Month is when we’re invited to expand our understanding of autism by listening to voices from the autism community. In this webinar\, autistic adults share firsthand experiences about growing up\, navigating adulthood\, and advocating for themselves\, offering meaningful insights for parents\, educators\, professionals\, employers\, and the broader community. Please submit your questions for the panel in advance so their perspectives can shape the conversation.  \nSponsored by the Autism Society of Maryland
URL:https://autismsocietymd.org/event/aam-self-advocate-panel/
CATEGORIES:Advocacy,Autism Awarenss
ATTACH;FMTTYPE=image/png:https://autismsocietymd.org/wp-content/uploads/2026/03/2026-Webinars-1080x1080px-2.png
END:VEVENT
END:VCALENDAR