BEGIN:VCALENDAR
VERSION:2.0
PRODID:-//Autism Society of Maryland - ECPv6.15.17.1//NONSGML v1.0//EN
CALSCALE:GREGORIAN
METHOD:PUBLISH
X-WR-CALNAME:Autism Society of Maryland
X-ORIGINAL-URL:https://autismsocietymd.org
X-WR-CALDESC:Events for Autism Society of Maryland
REFRESH-INTERVAL;VALUE=DURATION:PT1H
X-Robots-Tag:noindex
X-PUBLISHED-TTL:PT1H
BEGIN:VTIMEZONE
TZID:America/New_York
BEGIN:DAYLIGHT
TZOFFSETFROM:-0500
TZOFFSETTO:-0400
TZNAME:EDT
DTSTART:20250309T070000
END:DAYLIGHT
BEGIN:STANDARD
TZOFFSETFROM:-0400
TZOFFSETTO:-0500
TZNAME:EST
DTSTART:20251102T060000
END:STANDARD
BEGIN:DAYLIGHT
TZOFFSETFROM:-0500
TZOFFSETTO:-0400
TZNAME:EDT
DTSTART:20260308T070000
END:DAYLIGHT
BEGIN:STANDARD
TZOFFSETFROM:-0400
TZOFFSETTO:-0500
TZNAME:EST
DTSTART:20261101T060000
END:STANDARD
BEGIN:DAYLIGHT
TZOFFSETFROM:-0500
TZOFFSETTO:-0400
TZNAME:EDT
DTSTART:20270314T070000
END:DAYLIGHT
BEGIN:STANDARD
TZOFFSETFROM:-0400
TZOFFSETTO:-0500
TZNAME:EST
DTSTART:20271107T060000
END:STANDARD
END:VTIMEZONE
BEGIN:VEVENT
DTSTART;VALUE=DATE:20260402
DTEND;VALUE=DATE:20260403
DTSTAMP:20260424T063036
CREATED:20260121T015634Z
LAST-MODIFIED:20260402T025730Z
UID:10002675-1775088000-1775174399@autismsocietymd.org
SUMMARY:World Autism Acceptance Day
DESCRIPTION:On World Autism Acceptance Day\, we recognize and celebrate the diverse experiences of the autism community while advocating for greater acceptance\, inclusion\, and support. At the Autism Society of Maryland\, we believe that acceptance is just the beginning—true impact comes from fostering understanding and creating a world where autistic individuals and their families feel valued and supported every day. Join us in embracing neurodiversity\, amplifying autistic voices\, and working toward a more inclusive society. Together\, we can build a future where everyone can thrive. \nCLICK HERE for more information on Autism Acceptance Month Events! \nEn el Día de la Concienciación sobre el Autismo\, reconocemos y celebramos las diversas experiencias de la comunidad autista\, a la vez que abogamos por una mayor aceptación\, inclusión y apoyo. En la Sociedad de Autismo de Maryland\, creemos que la concienciación es solo el comienzo: el verdadero impacto reside en fomentar la comprensión y crear un mundo donde las personas autistas y sus familias se sientan valoradas y apoyadas cada día. Únete a nosotros para abrazar la neurodiversidad\, dar voz a las personas autistas y trabajar por una sociedad más inclusiva. Juntos\, podemos construir un futuro donde todos puedan prosperar.  \n¡HAZ CLIC AQUÍ para obtener más información sobre los eventos del Mes de la Aceptación del Autismo!
URL:https://autismsocietymd.org/event/autism-awareness-day/
CATEGORIES:Advocacy,Autism Awarenss
ATTACH;FMTTYPE=image/png:https://autismsocietymd.org/wp-content/uploads/2026/01/AUTISM-3.png
END:VEVENT
END:VCALENDAR