BEGIN:VCALENDAR
VERSION:2.0
PRODID:-//Autism Society of Maryland - ECPv6.15.17.1//NONSGML v1.0//EN
CALSCALE:GREGORIAN
METHOD:PUBLISH
X-ORIGINAL-URL:https://autismsocietymd.org
X-WR-CALDESC:Events for Autism Society of Maryland
REFRESH-INTERVAL;VALUE=DURATION:PT1H
X-Robots-Tag:noindex
X-PUBLISHED-TTL:PT1H
BEGIN:VTIMEZONE
TZID:America/New_York
BEGIN:DAYLIGHT
TZOFFSETFROM:-0500
TZOFFSETTO:-0400
TZNAME:EDT
DTSTART:20210314T070000
END:DAYLIGHT
BEGIN:STANDARD
TZOFFSETFROM:-0400
TZOFFSETTO:-0500
TZNAME:EST
DTSTART:20211107T060000
END:STANDARD
BEGIN:DAYLIGHT
TZOFFSETFROM:-0500
TZOFFSETTO:-0400
TZNAME:EDT
DTSTART:20220313T070000
END:DAYLIGHT
BEGIN:STANDARD
TZOFFSETFROM:-0400
TZOFFSETTO:-0500
TZNAME:EST
DTSTART:20221106T060000
END:STANDARD
BEGIN:DAYLIGHT
TZOFFSETFROM:-0500
TZOFFSETTO:-0400
TZNAME:EDT
DTSTART:20230312T070000
END:DAYLIGHT
BEGIN:STANDARD
TZOFFSETFROM:-0400
TZOFFSETTO:-0500
TZNAME:EST
DTSTART:20231105T060000
END:STANDARD
END:VTIMEZONE
BEGIN:VEVENT
DTSTART;TZID=America/New_York:20220507T173000
DTEND;TZID=America/New_York:20220507T193000
DTSTAMP:20260424T143817
CREATED:20220406T185902Z
LAST-MODIFIED:20220406T185902Z
UID:10001159-1651944600-1651951800@autismsocietymd.org
SUMMARY:Adult Social Group
DESCRIPTION:Join us for a Virtual Meeting at 5:30pm!  Link will be sent to those registered ahead of time. \nThis group is designed for independent adults with autism ages 24+.  Currently alternating virtual and in-person events each Saturday.  FREE to join.  A one-time registration is required at https://app.donorview.com/emKYX  Questions? Email info@autismsocietymd.org.
URL:https://autismsocietymd.org/event/adult-social-group-70/
CATEGORIES:Adult Social Group
ATTACH;FMTTYPE=image/png:https://autismsocietymd.org/wp-content/uploads/2020/12/adult-social-group.png
END:VEVENT
BEGIN:VEVENT
DTSTART;TZID=America/New_York:20220430T190000
DTEND;TZID=America/New_York:20220430T220000
DTSTAMP:20260424T143817
CREATED:20220406T185723Z
LAST-MODIFIED:20220406T185723Z
UID:10001157-1651345200-1651356000@autismsocietymd.org
SUMMARY:Adult Social Group
DESCRIPTION:Join us for an Orioles Game!  7pm vs. Boston Red Sox with Tailgate Option at 5pm.  More details to come! \nThis group is designed for independent adults with autism ages 24+.  Currently alternating virtual and in-person events each Saturday.  FREE to join.  A one-time registration is required at https://app.donorview.com/emKYX  Questions? Email info@autismsocietymd.org.
URL:https://autismsocietymd.org/event/adult-social-group-69/
CATEGORIES:Adult Social Group
ATTACH;FMTTYPE=image/png:https://autismsocietymd.org/wp-content/uploads/2020/12/adult-social-group.png
END:VEVENT
BEGIN:VEVENT
DTSTART;TZID=America/New_York:20220423T173000
DTEND;TZID=America/New_York:20220423T193000
DTSTAMP:20260424T143817
CREATED:20220406T185501Z
LAST-MODIFIED:20220406T185501Z
UID:10001155-1650735000-1650742200@autismsocietymd.org
SUMMARY:Adult Social Group
DESCRIPTION:Join us at 5:30pm for a Virtual Meeting!  Link will be sent to those registered in our database (link below). \nThis group is designed for independent adults with autism ages 24+.  Currently alternating virtual and in-person events each Saturday.  FREE to join.  A one-time registration is required at https://app.donorview.com/emKYX  Questions? Email info@autismsocietymd.org.
URL:https://autismsocietymd.org/event/adult-social-group-68/
CATEGORIES:Adult Social Group
ATTACH;FMTTYPE=image/png:https://autismsocietymd.org/wp-content/uploads/2020/12/adult-social-group.png
END:VEVENT
BEGIN:VEVENT
DTSTART;VALUE=DATE:20220416
DTEND;VALUE=DATE:20220417
DTSTAMP:20260424T143817
CREATED:20220406T184826Z
LAST-MODIFIED:20220406T184826Z
UID:10001153-1650067200-1650153599@autismsocietymd.org
SUMMARY:Adult Social Group - No Meeting Tonight!
DESCRIPTION:There will not be a meeting tonight.  See you next week! \nThis group is designed for independent adults with autism ages 24+.  Currently alternating virtual and in-person events each Saturday.  FREE to join.  A one-time registration is required at https://app.donorview.com/emKYX  Questions? Email info@autismsocietymd.org.
URL:https://autismsocietymd.org/event/adult-social-group-no-meeting-tonight/
CATEGORIES:Adult Social Group
ATTACH;FMTTYPE=image/png:https://autismsocietymd.org/wp-content/uploads/2020/12/adult-social-group.png
END:VEVENT
BEGIN:VEVENT
DTSTART;TZID=America/New_York:20220409T173000
DTEND;TZID=America/New_York:20220409T193000
DTSTAMP:20260424T143817
CREATED:20220406T184637Z
LAST-MODIFIED:20220406T185312Z
UID:10001152-1649525400-1649532600@autismsocietymd.org
SUMMARY:Adult Social Group
DESCRIPTION:Join us for a Potluck Dinner\, Egg Hunt and Candy Exchange at 5:30pm at HCAS\, 9770 Patuxent Woods Drive\, Columbia\, MD \nPlease bring a dish to share (enough for 4-6 people).  AUSOM will provide paper goods and bottled water.  If you like\, bring a small bag/container of candy to exchange with friends!  Hope to see you there! \nThis group is designed for independent adults with autism ages 24+.  Currently alternating virtual and in-person events each Saturday.  FREE to join.  A one-time registration is required at https://app.donorview.com/emKYX  Questions? Email info@autismsocietymd.org.
URL:https://autismsocietymd.org/event/adult-social-event/
LOCATION:Autism Society of Maryland\, 9770 Patuxent Woods Drive\, Suite 308\, Columbia\, MD\, 21046\, United States
CATEGORIES:Adult Social Group
ATTACH;FMTTYPE=image/png:https://autismsocietymd.org/wp-content/uploads/2020/12/adult-social-group.png
END:VEVENT
BEGIN:VEVENT
DTSTART;TZID=America/New_York:20220326T133000
DTEND;TZID=America/New_York:20220326T153000
DTSTAMP:20260424T143817
CREATED:20211229T174931Z
LAST-MODIFIED:20211229T174953Z
UID:10001122-1648301400-1648308600@autismsocietymd.org
SUMMARY:Adult Social Group
DESCRIPTION:Join us to welcome spring with a walk around Lake Kittamaqundi!  We’ll meet at the lake near the fountain at 1:30pm.  The Lake is located at 10221 Wincopin Circle in Columbia\, MD with parking near Whole Foods or in the adjacent lot to the lake.  Afterwards\, those who would like can walk to the mall for something to eat and further socializing. \nThis group is designed for independent adults with autism ages 24+.  Currently alternating virtual and in-person events each Saturday.  FREE to join.  A one-time registration is required at https://app.donorview.com/emKYX  Questions? Email info@autismsocietymd.org.
URL:https://autismsocietymd.org/event/adult-social-group-67/
CATEGORIES:Adult Social Group
ATTACH;FMTTYPE=image/png:https://autismsocietymd.org/wp-content/uploads/2020/12/adult-social-group.png
END:VEVENT
BEGIN:VEVENT
DTSTART;TZID=America/New_York:20220319T173000
DTEND;TZID=America/New_York:20220319T193000
DTSTAMP:20260424T143817
CREATED:20211229T174604Z
LAST-MODIFIED:20211229T174604Z
UID:10001121-1647711000-1647718200@autismsocietymd.org
SUMMARY:Adult Social Group
DESCRIPTION:Celebrate St. Patrick’s Day with a potluck dinner and gathering at HCAS!  More details TBA. \nThis group is designed for independent adults with autism ages 24+.  Currently alternating virtual and in-person events each Saturday.  FREE to join.  A one-time registration is required at https://app.donorview.com/emKYX  Questions? Email info@autismsocietymd.org.
URL:https://autismsocietymd.org/event/adult-social-group-66/
CATEGORIES:Adult Social Group
ATTACH;FMTTYPE=image/png:https://autismsocietymd.org/wp-content/uploads/2020/12/adult-social-group.png
END:VEVENT
BEGIN:VEVENT
DTSTART;TZID=America/New_York:20220312T173000
DTEND;TZID=America/New_York:20220312T193000
DTSTAMP:20260424T143817
CREATED:20211229T174435Z
LAST-MODIFIED:20211229T174435Z
UID:10001380-1647106200-1647113400@autismsocietymd.org
SUMMARY:Adult Social Group
DESCRIPTION:Join us for a virtual meeting and speaker.  More information TBA. \nThis group is designed for independent adults with autism ages 24+.  Currently alternating virtual and in-person events each Saturday.  FREE to join.  A one-time registration is required at https://app.donorview.com/emKYX  Questions? Email info@autismsocietymd.org.
URL:https://autismsocietymd.org/event/adult-social-group-65/
LOCATION:Online\, 9770 Patuxent Woods Drive\, Suite 308\, Columbia\, MD\, 21046\, United States
CATEGORIES:Adult Social Group
ATTACH;FMTTYPE=image/png:https://autismsocietymd.org/wp-content/uploads/2020/12/adult-social-group.png
END:VEVENT
BEGIN:VEVENT
DTSTART;TZID=America/New_York:20220305T173000
DTEND;TZID=America/New_York:20220305T193000
DTSTAMP:20260424T143817
CREATED:20211229T174312Z
LAST-MODIFIED:20211229T174312Z
UID:10001379-1646501400-1646508600@autismsocietymd.org
SUMMARY:Adult Social Group
DESCRIPTION:Join us for a virtual meeting and speaker.  More information TBA. \nThis group is designed for independent adults with autism ages 24+.  Currently alternating virtual and in-person events each Saturday.  FREE to join.  A one-time registration is required at https://app.donorview.com/emKYX  Questions? Email info@autismsocietymd.org.
URL:https://autismsocietymd.org/event/adult-social-group-64/
LOCATION:Online\, 9770 Patuxent Woods Drive\, Suite 308\, Columbia\, MD\, 21046\, United States
CATEGORIES:Adult Social Group
ATTACH;FMTTYPE=image/png:https://autismsocietymd.org/wp-content/uploads/2020/12/adult-social-group.png
END:VEVENT
BEGIN:VEVENT
DTSTART;TZID=America/New_York:20220226T173000
DTEND;TZID=America/New_York:20220226T193000
DTSTAMP:20260424T143817
CREATED:20211229T174144Z
LAST-MODIFIED:20211229T174144Z
UID:10001378-1645896600-1645903800@autismsocietymd.org
SUMMARY:Adult Social Group
DESCRIPTION:Join us for Self-Advocacy Training led by members of the group’s Planning Committee! \nThis group is designed for independent adults with autism ages 24+.  Currently alternating virtual and in-person events each Saturday.  FREE to join.  A one-time registration is required at https://app.donorview.com/emKYX  Questions? Email info@autismsocietymd.org.
URL:https://autismsocietymd.org/event/adult-social-group-63/
LOCATION:Online\, 9770 Patuxent Woods Drive\, Suite 308\, Columbia\, MD\, 21046\, United States
CATEGORIES:Adult Social Group
ATTACH;FMTTYPE=image/png:https://autismsocietymd.org/wp-content/uploads/2020/12/adult-social-group.png
END:VEVENT
BEGIN:VEVENT
DTSTART;TZID=America/New_York:20220219T130000
DTEND;TZID=America/New_York:20220219T150000
DTSTAMP:20260424T143817
CREATED:20211229T174012Z
LAST-MODIFIED:20211229T174012Z
UID:10001377-1645275600-1645282800@autismsocietymd.org
SUMMARY:Adult Social Group
DESCRIPTION:Join us for Winter Putt-Putt at 1pm!  Additional details to follow soon. \nThis group is designed for independent adults with autism ages 24+.  Currently alternating virtual and in-person events each Saturday.  FREE to join.  A one-time registration is required at https://app.donorview.com/emKYX  Questions? Email info@autismsocietymd.org.
URL:https://autismsocietymd.org/event/adult-social-group-62/
CATEGORIES:Adult Social Group
ATTACH;FMTTYPE=image/png:https://autismsocietymd.org/wp-content/uploads/2020/12/adult-social-group.png
END:VEVENT
BEGIN:VEVENT
DTSTART;TZID=America/New_York:20220212T173000
DTEND;TZID=America/New_York:20220212T193000
DTSTAMP:20260424T143817
CREATED:20211229T173405Z
LAST-MODIFIED:20220113T235903Z
UID:10001376-1644687000-1644694200@autismsocietymd.org
SUMMARY:Adult Social Group
DESCRIPTION:Join us for a Virtual Gathering at 5:30pm!  We’ll send you the link a few days before the event. \nThis group is designed for independent adults with autism ages 24+.  Currently alternating virtual and in-person events each Saturday.  FREE to join.  A one-time registration is required at https://app.donorview.com/emKYX  Questions? Email info@autismsocietymd.org.
URL:https://autismsocietymd.org/event/adult-social-group-61-2/
LOCATION:Online\, 9770 Patuxent Woods Drive\, Suite 308\, Columbia\, MD\, 21046\, United States
CATEGORIES:Adult Social Group
ATTACH;FMTTYPE=image/png:https://autismsocietymd.org/wp-content/uploads/2020/12/adult-social-group.png
END:VEVENT
BEGIN:VEVENT
DTSTART;TZID=America/New_York:20220205T173000
DTEND;TZID=America/New_York:20220205T193000
DTSTAMP:20260424T143817
CREATED:20211229T173405Z
LAST-MODIFIED:20211229T173405Z
UID:10001375-1644082200-1644089400@autismsocietymd.org
SUMMARY:Adult Social Group
DESCRIPTION:Join us for a Virtual Dance Party at 5:30pm.  Dance to tunes by DJ Brian Rowe….we’ll send you the link a few days before the event. \nThis group is designed for independent adults with autism ages 24+.  Currently alternating virtual and in-person events each Saturday.  FREE to join.  A one-time registration is required at https://app.donorview.com/emKYX  Questions? Email info@autismsocietymd.org.
URL:https://autismsocietymd.org/event/adult-social-group-61/
LOCATION:Online\, 9770 Patuxent Woods Drive\, Suite 308\, Columbia\, MD\, 21046\, United States
CATEGORIES:Adult Social Group
ATTACH;FMTTYPE=image/png:https://autismsocietymd.org/wp-content/uploads/2020/12/adult-social-group.png
END:VEVENT
BEGIN:VEVENT
DTSTART;TZID=America/New_York:20220129T173000
DTEND;TZID=America/New_York:20220129T193000
DTSTAMP:20260424T143817
CREATED:20211229T173220Z
LAST-MODIFIED:20211229T173220Z
UID:10001374-1643477400-1643484600@autismsocietymd.org
SUMMARY:Adult Social Group
DESCRIPTION:Join us for Ice Skating at the Color Burst Ice Rink at Merriweather District\, Columbia\, MD.  We’ve reserved 20 spots and the skating period lasts for 75 minutes.  If interested\, please RSVP to melissa.rosenberg@autismsocietymd.org.  Entrance fees are covered by the group\, but you’ll need to rent your skates once you arrive and sign the waiver form before attending (we’ll send you the link for the form.)  Afterwards\, those who would like can join the group for some dinner over at the Mall which is within walking/short driving distance.  Color Burst Ice Rink is located at Color Burst Park in Merriweather District\, Downtown Columbia.  Free parking is available at Symphony Woods Garage located at 6275 Mango Tree Road\, Columbia\, MD 21044 \nThis group is designed for independent adults with autism ages 24+.  Currently alternating virtual and in-person events each Saturday.  FREE to join.  A one-time registration is required at https://app.donorview.com/emKYX  Questions? Email info@autismsocietymd.org.
URL:https://autismsocietymd.org/event/adult-social-group-60/
CATEGORIES:Adult Social Group
ATTACH;FMTTYPE=image/png:https://autismsocietymd.org/wp-content/uploads/2020/12/adult-social-group.png
END:VEVENT
BEGIN:VEVENT
DTSTART;TZID=America/New_York:20220122T173000
DTEND;TZID=America/New_York:20220122T193000
DTSTAMP:20260424T143817
CREATED:20211229T172617Z
LAST-MODIFIED:20211229T172617Z
UID:10001373-1642872600-1642879800@autismsocietymd.org
SUMMARY:Adult Social Group
DESCRIPTION:Join us for Virtual Name That Tune! at 5:30pm!  We’ll send the login a few days before the gathering. \nThis group is designed for independent adults with autism ages 24+.  Currently alternating virtual and in-person events each Saturday.  FREE to join.  A one-time registration is required at https://app.donorview.com/emKYX  Questions? Email info@autismsocietymd.org.
URL:https://autismsocietymd.org/event/adult-social-group-59/
LOCATION:Online\, 9770 Patuxent Woods Drive\, Suite 308\, Columbia\, MD\, 21046\, United States
CATEGORIES:Adult Social Group
ATTACH;FMTTYPE=image/png:https://autismsocietymd.org/wp-content/uploads/2020/12/adult-social-group.png
END:VEVENT
BEGIN:VEVENT
DTSTART;TZID=America/New_York:20220115T173000
DTEND;TZID=America/New_York:20220115T193000
DTSTAMP:20260424T143817
CREATED:20211229T172448Z
LAST-MODIFIED:20220113T235722Z
UID:10001372-1642267800-1642275000@autismsocietymd.org
SUMMARY:Adult Social Group
DESCRIPTION:Due to the cold weather\, we’ve changed this to a virtual meeting at 5:30pm.  Please complete the one-time registration to receive the login! \nThis group is designed for independent adults with autism ages 24+.  Currently alternating virtual and in-person events each Saturday.  FREE to join.  A one-time registration is required at https://app.donorview.com/emKYX  Questions? Email info@autismsocietymd.org.
URL:https://autismsocietymd.org/event/adult-social-group-58/
LOCATION:Online\, 9770 Patuxent Woods Drive\, Suite 308\, Columbia\, MD\, 21046\, United States
CATEGORIES:Adult Social Group
ATTACH;FMTTYPE=image/png:https://autismsocietymd.org/wp-content/uploads/2020/12/adult-social-group.png
END:VEVENT
BEGIN:VEVENT
DTSTART;TZID=America/New_York:20220108T173000
DTEND;TZID=America/New_York:20220108T193000
DTSTAMP:20260424T143817
CREATED:20211229T172149Z
LAST-MODIFIED:20220104T145153Z
UID:10001371-1641663000-1641670200@autismsocietymd.org
SUMMARY:Adult Social Group
DESCRIPTION:Join us for Virtual BINGO or Name That Tune! at 5:30pm!  We’ll send the login a few days before the gathering. \nThis group is designed for independent adults with autism ages 24+.  Currently alternating virtual and in-person events each Saturday.  FREE to join.  A one-time registration is required at https://app.donorview.com/emKYX  Questions? Email info@autismsocietymd.org.
URL:https://autismsocietymd.org/event/adult-social-group-57/
LOCATION:Online\, 9770 Patuxent Woods Drive\, Suite 308\, Columbia\, MD\, 21046\, United States
CATEGORIES:Adult Social Group
ATTACH;FMTTYPE=image/png:https://autismsocietymd.org/wp-content/uploads/2020/12/adult-social-group.png
END:VEVENT
END:VCALENDAR