BEGIN:VCALENDAR
VERSION:2.0
PRODID:-//Autism Society of Maryland - ECPv6.15.17.1//NONSGML v1.0//EN
CALSCALE:GREGORIAN
METHOD:PUBLISH
X-ORIGINAL-URL:https://autismsocietymd.org
X-WR-CALDESC:Events for Autism Society of Maryland
REFRESH-INTERVAL;VALUE=DURATION:PT1H
X-Robots-Tag:noindex
X-PUBLISHED-TTL:PT1H
BEGIN:VTIMEZONE
TZID:America/New_York
BEGIN:DAYLIGHT
TZOFFSETFROM:-0500
TZOFFSETTO:-0400
TZNAME:EDT
DTSTART:20250309T070000
END:DAYLIGHT
BEGIN:STANDARD
TZOFFSETFROM:-0400
TZOFFSETTO:-0500
TZNAME:EST
DTSTART:20251102T060000
END:STANDARD
BEGIN:DAYLIGHT
TZOFFSETFROM:-0500
TZOFFSETTO:-0400
TZNAME:EDT
DTSTART:20260308T070000
END:DAYLIGHT
BEGIN:STANDARD
TZOFFSETFROM:-0400
TZOFFSETTO:-0500
TZNAME:EST
DTSTART:20261101T060000
END:STANDARD
BEGIN:DAYLIGHT
TZOFFSETFROM:-0500
TZOFFSETTO:-0400
TZNAME:EDT
DTSTART:20270314T070000
END:DAYLIGHT
BEGIN:STANDARD
TZOFFSETFROM:-0400
TZOFFSETTO:-0500
TZNAME:EST
DTSTART:20271107T060000
END:STANDARD
END:VTIMEZONE
BEGIN:VEVENT
DTSTART;TZID=America/New_York:20260526T180000
DTEND;TZID=America/New_York:20260526T200000
DTSTAMP:20260423T112846
CREATED:20260120T202917Z
LAST-MODIFIED:20260315T184955Z
UID:10002651-1779818400-1779825600@autismsocietymd.org
SUMMARY:Moms' Night Out!
DESCRIPTION:Moms’ Night Out \nJoin other autism moms for a night out just for you. Take time to relax\, connect\, and enjoy being with others who understand. \nCLICK TO REGISTER \n*This is a one-time registration. Once registered\, you’ll receive email notifications and reminders for all upcoming Moms’ Night events. \nRSVPs are encouraged to help us reserve seating and create a comfortable space for everyone. \n*This is a one-time registration. Once registered\, you will receive email notifications and reminders for all of our Moms’ Night events! \nRSVPs are encouraged to reserve seating.
URL:https://autismsocietymd.org/event/moms-night-out-may_26/
LOCATION:MD
CATEGORIES:Social
ATTACH;FMTTYPE=image/png:https://autismsocietymd.org/wp-content/uploads/2023/10/Moms-Night-Out-logo-10.2023.png
END:VEVENT
BEGIN:VEVENT
DTSTART;TZID=America/New_York:20260526T180000
DTEND;TZID=America/New_York:20260526T200000
DTSTAMP:20260423T112846
CREATED:20260315T185812Z
LAST-MODIFIED:20260315T191919Z
UID:10002752-1779818400-1779825600@autismsocietymd.org
SUMMARY:Dads' Night Out
DESCRIPTION:Dads’ Night Out!\nJoin us for a fun night out – just the dads! \nDate: May 26\, 2026\nTime: 6:00-8:00pm\nVenue:  TBD \nContact the AUSOM office to be added to the email list\, info@autismsocietymd.org or 410-290-3466.​​​​​​​ \n 
URL:https://autismsocietymd.org/event/dads-night-out-31/
LOCATION:White Oak Tavern\, 10300 Baltimore National Pike\, Ellicott City\, Maryland\, 21042
CATEGORIES:Social
ATTACH;FMTTYPE=image/png:https://autismsocietymd.org/wp-content/uploads/2025/09/Dads-Night-Out.png
END:VEVENT
BEGIN:VEVENT
DTSTART;TZID=America/New_York:20260526T190000
DTEND;TZID=America/New_York:20260526T200000
DTSTAMP:20260423T112846
CREATED:20260310T021143Z
LAST-MODIFIED:20260310T034454Z
UID:10002707-1779822000-1779825600@autismsocietymd.org
SUMMARY:Adult Sibling Support Group
DESCRIPTION:Adult Sibling Support Group (Virtual)​​​​​​​ \nThe Adult Sibling Support Group is a free group that offers support to adult siblings who are caring for sisters and brothers with a range of disabilities\, not only Autism. We invite you to join us for discussions offering mutual support and resource-sharing. \nA one time registration for the group is required: https://app.donorview.com/pEk7r \nOnce registered you will receive an email with the zoom link. \nIf you register within 24 hours of the session\, we cannot guarantee that you’ll receive the reminder email and Zoom link. \nIf you have questions or concerns please contact Kelly Kryspin at kelly.kryspin@autismsocietymd.org for more details. \n 
URL:https://autismsocietymd.org/event/adult-sibling-support-group-12/
LOCATION:MD
CATEGORIES:Autism Awarenss,Family Support
ATTACH;FMTTYPE=image/png:https://autismsocietymd.org/wp-content/uploads/2024/02/Adult-Siblings-Group.png
END:VEVENT
END:VCALENDAR