BEGIN:VCALENDAR
VERSION:2.0
PRODID:-//Autism Society of Maryland - ECPv6.15.17.1//NONSGML v1.0//EN
CALSCALE:GREGORIAN
METHOD:PUBLISH
X-WR-CALNAME:Autism Society of Maryland
X-ORIGINAL-URL:https://autismsocietymd.org
X-WR-CALDESC:Events for Autism Society of Maryland
REFRESH-INTERVAL;VALUE=DURATION:PT1H
X-Robots-Tag:noindex
X-PUBLISHED-TTL:PT1H
BEGIN:VTIMEZONE
TZID:America/New_York
BEGIN:DAYLIGHT
TZOFFSETFROM:-0500
TZOFFSETTO:-0400
TZNAME:EDT
DTSTART:20250309T070000
END:DAYLIGHT
BEGIN:STANDARD
TZOFFSETFROM:-0400
TZOFFSETTO:-0500
TZNAME:EST
DTSTART:20251102T060000
END:STANDARD
BEGIN:DAYLIGHT
TZOFFSETFROM:-0500
TZOFFSETTO:-0400
TZNAME:EDT
DTSTART:20260308T070000
END:DAYLIGHT
BEGIN:STANDARD
TZOFFSETFROM:-0400
TZOFFSETTO:-0500
TZNAME:EST
DTSTART:20261101T060000
END:STANDARD
BEGIN:DAYLIGHT
TZOFFSETFROM:-0500
TZOFFSETTO:-0400
TZNAME:EDT
DTSTART:20270314T070000
END:DAYLIGHT
BEGIN:STANDARD
TZOFFSETFROM:-0400
TZOFFSETTO:-0500
TZNAME:EST
DTSTART:20271107T060000
END:STANDARD
END:VTIMEZONE
BEGIN:VEVENT
DTSTART;VALUE=DATE:20260316
DTEND;VALUE=DATE:20260317
DTSTAMP:20260424T173807
CREATED:20260121T011247Z
LAST-MODIFIED:20260121T011247Z
UID:10002660-1773619200-1773705599@autismsocietymd.org
SUMMARY:Howard County & Montgomery County Resource Coordinator Office Hours
DESCRIPTION:Resource Coordinator Office Hours – Howard & Montgomery Counties \nWhen: Mondays\, Wednesdays\, and Fridays (by appointment only)Where: Autism Society of Maryland Office \nCONTACT: Sara Sommerville | sara.sommerville@autismsocietymd.org | 443-518-7680 (Direct) \nThe Autism Society of Maryland’s Resource Coordinators are available to meet with families and individuals seeking support. Office hours are held three days a week by appointment only. \nDuring your appointment\, our coordinators can: \n\n\nConnect you with local autism resources and services \n\n\nProvide guidance and referrals tailored to your needs \n\n\nAnswer questions and help you navigate available tools \n\n\nAppointments are required. Please contact us to schedule a time.
URL:https://autismsocietymd.org/event/howard-county-montgomery-county-resource-coordinator-office-hours-25/
LOCATION:Autism Society of Maryland\, 9770 Patuxent Woods Drive\, Suite 308\, Columbia\, MD\, 21046\, United States
CATEGORIES:Family Support,General Support
ATTACH;FMTTYPE=image/png:https://autismsocietymd.org/wp-content/uploads/2025/09/7.png
END:VEVENT
BEGIN:VEVENT
DTSTART;TZID=America/New_York:20260316T190000
DTEND;TZID=America/New_York:20260316T203000
DTSTAMP:20260424T173807
CREATED:20260121T012618Z
LAST-MODIFIED:20260121T012618Z
UID:10002666-1773687600-1773693000@autismsocietymd.org
SUMMARY:Grupo de Apoyo Para Padres Latinos (Virtual)
DESCRIPTION:GRUPO DE APOYO PARA PADRES LATINOS – En español \nFecha: 16 de marzo de 2026 \nHora: 7:00 – 8:30 PM \nPróximamente más detalles. \n\nZoom link: https://us06web.zoom.us/j/85843190006 \nPara más información\, contacte a: \n\n\nMarianela Estrada: emailnella22@gmail.com | 973-223-1024\nAlex Arevalo: ax.areval1@gmail.com | 240-374-3368\nCatalina Ramos: catalina.ramos@autismsocietymd.org | 443-518-7681
URL:https://autismsocietymd.org/event/grupo-de-apoyo-para-padres-latinos-virtual-29/
CATEGORIES:Latino Parent Support
ATTACH;FMTTYPE=image/png:https://autismsocietymd.org/wp-content/uploads/2025/10/Latino-Parent-Support-Group-1.png
LOCATION:https://us06web.zoom.us/j/85843190006
END:VEVENT
END:VCALENDAR